BEGIN:VCALENDAR
VERSION:2.0
PRODID:-//ChamberMaster//Event Calendar 2.0//EN
METHOD:PUBLISH
X-PUBLISHED-TTL:P3D
REFRESH-INTERVAL:P3D
CALSCALE:GREGORIAN
BEGIN:VEVENT
DTSTART:20190817T170000Z
DTEND:20190817T190000Z
X-MICROSOFT-CDO-ALLDAYEVENT:FALSE
SUMMARY:Gnome & Fairy Festival
DESCRIPTION:Put on your pointed hats and fairy wings and head out to the coast for a day of enchantment with the Seabrook Gnome & Fairy Festival on Saturday\, August 17\, 2019.\n\nThis magical day is all about the "wee folk" and getting up close with the natural world and encouraging active\, outdoor play. \n\nChildren can forage in our enchanted forest for fairies\, help build a fairy village using all natural materials\, show off costumes in our gnome & fairy parade and have fun dancing to live music with the Not-Its. \n\nBe sure to bring the whole family to stroll Gnome Trial and catch a glimpse of the fairies and gnomes wandering Seabrook's enchanted forest. \n\nDress in costume and flaunt your wings in our parade\; frolic in the enchanted forest for a fairy surprise\; build a gnome village\; enjoy games and crafts inspired by the natural world.\n\nThere's a fairy good chance kids will love the festive activities set for Seabrook's Gnome & Fairy Festival.
X-ALT-DESC;FMTTYPE=text/html:<p style="font-size: 16px\; box-sizing: border-box\; margin: 0px 0px 1.25em\; padding: 0px\; direction: ltr\; font-family: myriad-pro\, sans-serif\; line-height: 1.45\; text-rendering: optimizeLegibility\; letter-spacing: 0.47999998927116394px\; caret-color: rgb(84\, 102\, 108)\; color: rgb(84\, 102\, 108)\;">Put on your pointed hats and fairy wings and head out to the coast for a day of enchantment with the Seabrook Gnome &amp\; Fairy Festival on Saturday\,&nbsp\;<strong style="box-sizing: border-box\; line-height: 1.45\;">August 17\, 2019.</strong></p>\n\n<p style="font-size: 16px\; box-sizing: border-box\; margin: 0px 0px 1.25em\; padding: 0px\; direction: ltr\; font-family: myriad-pro\, sans-serif\; line-height: 1.45\; text-rendering: optimizeLegibility\; letter-spacing: 0.47999998927116394px\; caret-color: rgb(84\, 102\, 108)\; color: rgb(84\, 102\, 108)\;">This magical day is all about the &ldquo\;wee folk&rdquo\; and getting up close with the natural world and encouraging active\, outdoor play.&nbsp\;</p>\n\n<p style="font-size: 16px\; box-sizing: border-box\; margin: 0px 0px 1.25em\; padding: 0px\; direction: ltr\; font-family: myriad-pro\, sans-serif\; line-height: 1.45\; text-rendering: optimizeLegibility\; letter-spacing: 0.47999998927116394px\; caret-color: rgb(84\, 102\, 108)\; color: rgb(84\, 102\, 108)\;">Children can forage in our enchanted forest for fairies\, help build a fairy village using all natural materials\, show off costumes in our gnome &amp\; fairy parade and have fun dancing to live music with the Not-Its.&nbsp\;</p>\n\n<p style="font-size: 16px\; box-sizing: border-box\; margin: 0px 0px 1.25em\; padding: 0px\; direction: ltr\; font-family: myriad-pro\, sans-serif\; line-height: 1.45\; text-rendering: optimizeLegibility\; letter-spacing: 0.47999998927116394px\; caret-color: rgb(84\, 102\, 108)\; color: rgb(84\, 102\, 108)\;">Be sure to bring the whole family to stroll Gnome Trial and catch a glimpse of the fairies and gnomes wandering Seabrook&rsquo\;s enchanted forest.&nbsp\;</p>\n\n<p style="font-size: 16px\; box-sizing: border-box\; margin: 0px 0px 1.25em\; padding: 0px\; direction: ltr\; font-family: myriad-pro\, sans-serif\; line-height: 1.45\; text-rendering: optimizeLegibility\; letter-spacing: 0.47999998927116394px\; caret-color: rgb(84\, 102\, 108)\; color: rgb(84\, 102\, 108)\;">Dress in costume and flaunt your wings in our parade\; frolic in the enchanted forest for a fairy surprise\; build a gnome village\; enjoy games and crafts inspired by the natural world.</p>\n\n<p style="font-size: 16px\; box-sizing: border-box\; margin: 0px 0px 1.25em\; padding: 0px\; direction: ltr\; font-family: myriad-pro\, sans-serif\; line-height: 1.45\; text-rendering: optimizeLegibility\; letter-spacing: 0.47999998927116394px\; caret-color: rgb(84\, 102\, 108)\; color: rgb(84\, 102\, 108)\;">There&rsquo\;s a fairy good chance kids will love the festive activities set for Seabrook&rsquo\;s Gnome &amp\; Fairy Festival.</p>\n
LOCATION:Seabrook Washington Pacific Beach\, WA
UID:e.26.11631
SEQUENCE:3
DTSTAMP:20260424T104510Z
URL:https://chamber.graysharbor.org/events/details/gnome-fairy-festival-11631
END:VEVENT

END:VCALENDAR
