BEGIN:VCALENDAR
VERSION:2.0
PRODID:-//ChamberMaster//Event Calendar 2.0//EN
METHOD:PUBLISH
X-PUBLISHED-TTL:P3D
REFRESH-INTERVAL:P3D
CALSCALE:GREGORIAN
BEGIN:VEVENT
DTSTART:20171008T023000Z
DTEND:20171008T050000Z
X-MICROSOFT-CDO-ALLDAYEVENT:FALSE
SUMMARY:God is a Scottish Drag Queen / Bishop Center
DESCRIPTION:Critically acclaimed and award winning Canadian comedian Mike Delamont brings "God is a Scottish Drag Queen" to the Bishop Center stage. This highly acclaimed night of comedy with everyone's favorite deity\, God\, dressed in a floral power suit\, comes to skewer everything from Justin Bieber to the pope.
X-ALT-DESC;FMTTYPE=text/html:Critically acclaimed and award winning Canadian comedian Mike Delamont brings &quot\;God is a Scottish Drag Queen&quot\; to the Bishop Center stage. This highly acclaimed night of comedy with everyone&#39\;s favorite deity\, God\, dressed in a floral power suit\, comes to skewer everything from Justin Bieber to the pope.
LOCATION:Grays Harbor College Bishop Center for Performing Arts 1620 Edward P. Smith Drive Aberdeen WA 98520
UID:e.26.8252
SEQUENCE:3
DTSTAMP:20260425T201252Z
URL:https://chamber.graysharbor.org/events/details/god-is-a-scottish-drag-queen-bishop-center-10-07-2017-8252
END:VEVENT

END:VCALENDAR
