BEGIN:VCALENDAR
VERSION:2.0
PRODID:-//ChamberMaster//Event Calendar 2.0//EN
METHOD:PUBLISH
X-PUBLISHED-TTL:P3D
REFRESH-INTERVAL:P3D
CALSCALE:GREGORIAN
BEGIN:VEVENT
DTSTART:20180218T173000Z
DTEND:20180218T203000Z
X-MICROSOFT-CDO-ALLDAYEVENT:FALSE
SUMMARY:Gone But Not Forgotten 5K
DESCRIPTION:"GONE BUT NOT FORGOTTEN" \n\n5K Run\, Walk & Roll\n\n\n\nSunday February 18\, 2018\n\nRegistration starts at 8:30\, Run starts at 9:30 AM\n\nHoquiam Police Department\n\n215 10th Street\, Hoquiam\, WA 98550\n\nEarly registration $40 includes T-shirt\n\nAll profits go to Deputy McCartney's family.\n\n1st 50 registrants will receive a commemorative "Gone But Not Forgotten" medallion.\n\nAll registrants will be entered into a raffle for a chance to win 1 of 2 pairs of running shoes from South Sound Running. \n\nRegister at: https://racewire.com/register.php?id=8907
X-ALT-DESC;FMTTYPE=text/html:<span style="color: rgb(75\, 79\, 86)\; font-family: Helvetica\, Arial\, sans-serif\; font-size: 14px\; background-color: rgb(255\, 255\, 255)\;">&ldquo\;GONE BUT NOT FORGOTTEN&quot\;&nbsp\;</span><br style="color: rgb(75\, 79\, 86)\; font-family: Helvetica\, Arial\, sans-serif\; font-size: 14px\; background-color: rgb(255\, 255\, 255)\;" />\n<span style="color: rgb(75\, 79\, 86)\; font-family: Helvetica\, Arial\, sans-serif\; font-size: 14px\; background-color: rgb(255\, 255\, 255)\;">5K Run\, Walk &amp\; Roll</span><br style="color: rgb(75\, 79\, 86)\; font-family: Helvetica\, Arial\, sans-serif\; font-size: 14px\; background-color: rgb(255\, 255\, 255)\;" />\n<br style="color: rgb(75\, 79\, 86)\; font-family: Helvetica\, Arial\, sans-serif\; font-size: 14px\; background-color: rgb(255\, 255\, 255)\;" />\n<span style="color: rgb(75\, 79\, 86)\; font-family: Helvetica\, Arial\, sans-serif\; font-size: 14px\; background-color: rgb(255\, 255\, 255)\;">Sunday February 18\, 2018</span><br style="color: rgb(75\, 79\, 86)\; font-family: Helvetica\, Arial\, sans-serif\; font-size: 14px\; background-color: rgb(255\, 255\, 255)\;" />\n<span style="color: rgb(75\, 79\, 86)\; font-family: Helvetica\, Arial\, sans-serif\; font-size: 14px\; background-color: rgb(255\, 255\, 255)\;">Registration starts at 8:30\, Run starts at 9:30 AM</span><br style="color: rgb(75\, 79\, 86)\; font-family: Helvetica\, Arial\, sans-serif\; font-size: 14px\; background-color: rgb(255\, 255\, 255)\;" />\n<span style="color: rgb(75\, 79\, 86)\; font-family: Helvetica\, Arial\, sans-serif\; font-size: 14px\; background-color: rgb(255\, 255\, 255)\;">Hoquiam Police Department</span><br style="color: rgb(75\, 79\, 86)\; font-family: Helvetica\, Arial\, sans-serif\; font-size: 14px\; background-color: rgb(255\, 255\, 255)\;" />\n<span style="color: rgb(75\, 79\, 86)\; font-family: Helvetica\, Arial\, sans-serif\; font-size: 14px\; background-color: rgb(255\, 255\, 255)\;">215 10th Street\, Hoquiam\, WA 98550</span><br style="color: rgb(75\, 79\, 86)\; font-family: Helvetica\, Arial\, sans-serif\; font-size: 14px\; background-color: rgb(255\, 255\, 255)\;" />\n<span style="color: rgb(75\, 79\, 86)\; font-family: Helvetica\, Arial\, sans-serif\; font-size: 14px\; background-color: rgb(255\, 255\, 255)\;">Early registration $40 includes T-shirt</span><br style="color: rgb(75\, 79\, 86)\; font-family: Helvetica\, Arial\, sans-serif\; font-size: 14px\; background-color: rgb(255\, 255\, 255)\;" />\n<span style="color: rgb(75\, 79\, 86)\; font-family: Helvetica\, Arial\, sans-serif\; font-size: 14px\; background-color: rgb(255\, 255\, 255)\;">All profits go to Deputy McCartney&rsquo\;s family.</span><br style="color: rgb(75\, 79\, 86)\; font-family: Helvetica\, Arial\, sans-serif\; font-size: 14px\; background-color: rgb(255\, 255\, 255)\;" />\n<span style="color: rgb(75\, 79\, 86)\; font-family: Helvetica\, Arial\, sans-serif\; font-size: 14px\; background-color: rgb(255\, 255\, 255)\;">1st 50 registrants will receive a commemorative &quot\;Gone But Not Forgotten&quot\; medallion.</span><br style="color: rgb(75\, 79\, 86)\; font-family: Helvetica\, Arial\, sans-serif\; font-size: 14px\; background-color: rgb(255\, 255\, 255)\;" />\n<span style="color: rgb(75\, 79\, 86)\; font-family: Helvetica\, Arial\, sans-serif\; font-size: 14px\; background-color: rgb(255\, 255\, 255)\;">All registrants will be entered into a raffle for a chance to win 1 of 2 pairs of running shoes from South Sound Running.&nbsp\;</span><br style="color: rgb(75\, 79\, 86)\; font-family: Helvetica\, Arial\, sans-serif\; font-size: 14px\; background-color: rgb(255\, 255\, 255)\;" />\n<span style="color: rgb(75\, 79\, 86)\; font-family: Helvetica\, Arial\, sans-serif\; font-size: 14px\; background-color: rgb(255\, 255\, 255)\;">Register at:&nbsp\;</span><a data-lynx-mode="async" data-lynx-uri="https://l.facebook.com/l.php?u=https%3A%2F%2Fracewire.com%2Fregister.php%3Fid%3D8907&amp\;h=ATMsMURgbgmwYkx5uYfOHO4CTosKdggo0rXqSb3hnDttWlvewA2pEJNu18Y3Cdou1sK3w7D8kLKbIAR95EiGQodLppQar6c5IjHMGr1VodCd40_Q3JhUtOUUqUtzcVcgVl_zT0OjH5ItwBJE65W68I_pAc0ewCWB8k4_UZxzL3qVEclsel0_qtESMxNrSvm7gX8" href="https://racewire.com/register.php?id=8907" rel="nofollow noopener" style="color: rgb(54\, 88\, 153)\; cursor: pointer\; text-decoration-line: none\; font-family: Helvetica\, Arial\, sans-serif\; font-size: 14px\; background-color: rgb(255\, 255\, 255)\;" target="_blank"><span style="font-family: inherit\;">https://racewire.com/</span><wbr />register.php?id=8907</a>
LOCATION:Hoquiam Police Dept. 215 10th St.
UID:e.26.9480
SEQUENCE:3
DTSTAMP:20260425T132650Z
URL:https://chamber.graysharbor.org/events/details/gone-but-not-forgotten-5k-9480
END:VEVENT

END:VCALENDAR
