BEGIN:VCALENDAR
VERSION:2.0
PRODID:-//ChamberMaster//Event Calendar 2.0//EN
METHOD:PUBLISH
X-PUBLISHED-TTL:P3D
REFRESH-INTERVAL:P3D
CALSCALE:GREGORIAN
BEGIN:VEVENT
DTSTART;VALUE=DATE:20180310
DTEND;VALUE=DATE:20180312
TRANSP:TRANSPARENT
X-MICROSOFT-CDO-ALLDAYEVENT:TRUE
SUMMARY:Gone with the Wind at 7th St. Theatre
DESCRIPTION:Tickets are $6 for all ages.\n\nTickets are available at City Drug\, Crown Drug\, Harbor Drug\, online\, and at the door 30 minutes prior to the show.\n\n\n\nThis 1939 epic tale of the rocky romance of Scarlett O'Hara and Rhett Butler as told through the Civil War and Reconstruction era in the American South\, received eight Academy Awards\, including the first ever nomination and win for an African American\, Hattie McDaniel. Clark Gable and Best Actress winner Vivien Leigh led a huge cast\, including Leslie Howard\, Olivia de Havilland\, Victor Jory\, Ward Bond and George Reeves\, in the Hollywood adaptation of Margaret Mitchell's Pulitzer Prize winning novel.\n\n\n\nLocally sponsored by Coleman Mortuary\, Hoquiam Senior Citizen Board\, The Jitter House\, Valentine Law Office\, Westhaven Villa\, Wunderland Childcare\, Alpha Media Grays Harbor\, and Jodesha Broadcasting.
X-ALT-DESC;FMTTYPE=text/html:<span style="color: rgb(75\, 79\, 86)\; font-family: Helvetica\, Arial\, sans-serif\; font-size: 14px\; background-color: rgb(255\, 255\, 255)\;">Tickets are $6 for all ages.</span><br style="color: rgb(75\, 79\, 86)\; font-family: Helvetica\, Arial\, sans-serif\; font-size: 14px\; background-color: rgb(255\, 255\, 255)\;" />\n<span style="color: rgb(75\, 79\, 86)\; font-family: Helvetica\, Arial\, sans-serif\; font-size: 14px\; background-color: rgb(255\, 255\, 255)\;">Tickets are available at City Drug\, Crown Drug\, Harbor Drug\, online\, and at the door 30 minutes prior to the show.</span><br style="color: rgb(75\, 79\, 86)\; font-family: Helvetica\, Arial\, sans-serif\; font-size: 14px\; background-color: rgb(255\, 255\, 255)\;" />\n<br style="color: rgb(75\, 79\, 86)\; font-family: Helvetica\, Arial\, sans-serif\; font-size: 14px\; background-color: rgb(255\, 255\, 255)\;" />\n<span style="color: rgb(75\, 79\, 86)\; font-family: Helvetica\, Arial\, sans-serif\; font-size: 14px\; background-color: rgb(255\, 255\, 255)\;">This 1939 epic tale of the rocky romance of Scarlett O&rsquo\;Hara and Rhett Butler as told through the Civil War and Reconstruction era in the American South\, received eight Academy Awards\, including the first ever nomination and win for an African American\, Hattie McDaniel. Clark Gable and Best Actress winner Vivien Leigh led a huge cast\, including Leslie Howard\, Olivia de Havilland\, Victor Jory\, Ward Bond and George Reeves\, in the Hollywood adaptation of Margaret Mitchell&rsquo\;s Pulitzer Prize winning novel.</span><br style="color: rgb(75\, 79\, 86)\; font-family: Helvetica\, Arial\, sans-serif\; font-size: 14px\; background-color: rgb(255\, 255\, 255)\;" />\n<br style="color: rgb(75\, 79\, 86)\; font-family: Helvetica\, Arial\, sans-serif\; font-size: 14px\; background-color: rgb(255\, 255\, 255)\;" />\n<span style="color: rgb(75\, 79\, 86)\; font-family: Helvetica\, Arial\, sans-serif\; font-size: 14px\; background-color: rgb(255\, 255\, 255)\;">Locally sponsored by Coleman Mortuary\, Hoquiam Senior Citizen Board\, The Jitter House\, Valentine Law Office\, Westhaven Villa\, Wunderland Childcare\, Alpha Media Grays Harbor\, and Jodesha Broadcasting.</span>
LOCATION:7th St. Theatre Hoquaim\, WA
UID:e.26.9543
SEQUENCE:3
DTSTAMP:20260425T115357Z
URL:https://chamber.graysharbor.org/events/details/gone-with-the-wind-at-7th-st-theatre-9543
END:VEVENT

END:VCALENDAR
