BEGIN:VCALENDAR
VERSION:2.0
PRODID:-//ChamberMaster//Event Calendar 2.0//EN
METHOD:PUBLISH
X-PUBLISHED-TTL:P3D
REFRESH-INTERVAL:P3D
CALSCALE:GREGORIAN
BEGIN:VEVENT
DTSTART:20170531T170000Z
DTEND:20170531T203000Z
X-MICROSOFT-CDO-ALLDAYEVENT:FALSE
SUMMARY:Governor's Summit on Career Connected Learning
DESCRIPTION:Is your local qualified applicant talent pool too small to meet your hiring needs? Are you having difficulty solving your entry-level job requirements? Join other local businesses to learn more about how to resolve these labor market challenges by engaging young adults in your local workforce at the Governor's Summit on Career Connected Learning.\n\n\n\nOn May 31st\, Governor Jay Inslee\, along with business and education leaders\, will address next steps to provide more Washington young adults with the work experience and real-world skills that can help your business thrive. Join in on this live stream event to learn more.\n\n\n\nThe Career Connected Learning Summit will be simultaneously hosted in Redmond\, WA and at regional sites around the state where smaller groups will discuss how to make positive changes at the local level.\n\n\n\nWe've made it easy for you to attend right here in Grays Harbor!
X-ALT-DESC;FMTTYPE=text/html:<span class="_4n-j _3cht fsl" data-testid="event-permalink-details">Is your local qualified applicant talent pool too small to meet your hiring needs? Are you having difficulty solving your entry-level job requirements? Join other local businesses to learn more about how to resolve these labor market challenges by engaging young adults in your local workforce at the Governor&#39\;s Summit on Career Connected Learning.<br />\n<br />\nOn May 31st\, Governor Jay Inslee\, along with business and education leaders\, will address next steps to provide more Washington young adults with the work experience and real-world skills that can help your business thrive. Join in on this live stream event to learn more.<br />\n<br />\nThe Career Connected Learning Summit will be simultaneously hosted in Redmond\, WA and at regional sites around the state where smaller groups will discuss how to make positive changes at the local level.<br />\n<br />\nWe&rsquo\;ve made it easy for you to attend right here in Grays Harbor!</span>
LOCATION:Grays Harbor College in Room 4134 A/B.
UID:e.26.7676
SEQUENCE:3
DTSTAMP:20260426T032643Z
URL:https://chamber.graysharbor.org/events/details/governor-s-summit-on-career-connected-learning-7676
END:VEVENT

END:VCALENDAR
