BEGIN:VCALENDAR
VERSION:2.0
PRODID:-//ChamberMaster//Event Calendar 2.0//EN
METHOD:PUBLISH
X-PUBLISHED-TTL:P3D
REFRESH-INTERVAL:P3D
CALSCALE:GREGORIAN
BEGIN:VEVENT
DTSTART:20191102T170000Z
DTEND:20191104T010000Z
X-MICROSOFT-CDO-ALLDAYEVENT:FALSE
SUMMARY:Grand Heron 32nd Annual Christmas Open House
DESCRIPTION:You are cordially invited to the Grand Heron's annual Christmas Open House! Get into the holiday spirit with some seasonal shopping in this beautiful historic home decor store in downtown Aberdeen.
X-ALT-DESC;FMTTYPE=text/html:<font color="#1d2129"><span style="caret-color: rgb(29\, 33\, 41)\; font-size: 14px\; white-space: pre-wrap\;">You are cordially invited to the Grand Heron&#39\;s annual Christmas Open House! Get into the holiday spirit with some seasonal shopping in this beautiful historic home decor store in downtown Aberdeen.</span></font>
LOCATION:pin Grand Heron 200 E Heron St\, Aberdeen\, Washington 98520
UID:e.26.12222
SEQUENCE:3
DTSTAMP:20260424T042235Z
URL:https://chamber.graysharbor.org/events/details/grand-heron-32nd-annual-christmas-open-house-12222
END:VEVENT

END:VCALENDAR
