BEGIN:VCALENDAR
VERSION:2.0
PRODID:-//ChamberMaster//Event Calendar 2.0//EN
METHOD:PUBLISH
X-PUBLISHED-TTL:P3D
REFRESH-INTERVAL:P3D
CALSCALE:GREGORIAN
BEGIN:VEVENT
DTSTART:20190922T013000Z
DTEND:20190922T030000Z
X-MICROSOFT-CDO-ALLDAYEVENT:FALSE
SUMMARY:Grand Illusion at Seabrook's Fall Concert Series
DESCRIPTION:Grand Illusion is the NW's premier Styx tribute act that will be at the Seabrook Fall Concert Series event on Sept. 21st.\n\nStyx is one of the rare acts who were able to turn decidedly Prog Rock roots into massive commercial success\, and Grand Illusion captures that balance perfectly.\n\nThe rock guitars\, expansive synthesizers\, and broad vocal range (provided by 4 lead vocalists) allows them to bring album-perfect performances of radio staples and deep album cuts to every performance.\n\nThe audience will enjoy all of Styx's biggest hits like "Come Sail Away" and "Babe" and will sing along to their favorite hits and dance the night away.
X-ALT-DESC;FMTTYPE=text/html:<p style="font-family: Arial\, sans-serif\; box-sizing: border-box\; margin: 0px 0px 1.25em\; padding: 0px\; direction: ltr\; line-height: 1.45\; text-rendering: optimizeLegibility\; letter-spacing: 0.47999998927116394px\; caret-color: rgb(84\, 102\, 108)\;"><span style="font-size:14px\;"><font color="#000000" face="arial">Grand Illusion is the NW&#39\;s premier Styx tribute act that will be at the Seabrook Fall Concert Series event on Sept. 21st.</font></span></p>\n\n<p style="font-family: Arial\, sans-serif\; box-sizing: border-box\; margin: 0px 0px 1.25em\; padding: 0px\; direction: ltr\; line-height: 1.45\; text-rendering: optimizeLegibility\; letter-spacing: 0.47999998927116394px\; caret-color: rgb(84\, 102\, 108)\;"><span style="font-size:14px\;"><font color="#000000" face="arial">Styx is one of the rare acts who were able to turn decidedly Prog Rock roots into massive commercial success\, and Grand Illusion captures that balance perfectly.</font></span></p>\n\n<p style="font-family: Arial\, sans-serif\; box-sizing: border-box\; margin: 0px 0px 1.25em\; padding: 0px\; direction: ltr\; line-height: 1.45\; text-rendering: optimizeLegibility\; letter-spacing: 0.47999998927116394px\; caret-color: rgb(84\, 102\, 108)\;"><span style="font-size:14px\;"><font color="#000000" face="arial">The rock guitars\, expansive synthesizers\, and broad vocal range (provided by 4 lead vocalists) allows them to bring album-perfect performances of radio staples and deep album cuts to every performance.</font></span></p>\n\n<p style="font-family: Arial\, sans-serif\; box-sizing: border-box\; margin: 0px 0px 1.25em\; padding: 0px\; direction: ltr\; line-height: 1.45\; text-rendering: optimizeLegibility\; letter-spacing: 0.47999998927116394px\; caret-color: rgb(84\, 102\, 108)\;"><span style="font-size:14px\;"><font color="#000000" face="arial">The audience will enjoy all of Styx&rsquo\;s biggest hits like&nbsp\;&ldquo\;Come Sail Away&rdquo\; and &ldquo\;Babe&rdquo\; and will sing along to their favorite hits and dance the night away.</font></span></p>\n
LOCATION:Seabrook Pacific Beach\, WA
UID:e.26.12185
SEQUENCE:3
DTSTAMP:20260424T090529Z
URL:https://chamber.graysharbor.org/events/details/grand-illusion-at-seabrook-s-fall-concert-series-12185
END:VEVENT

END:VCALENDAR
