BEGIN:VCALENDAR
VERSION:2.0
PRODID:-//ChamberMaster//Event Calendar 2.0//EN
METHOD:PUBLISH
X-PUBLISHED-TTL:P3D
REFRESH-INTERVAL:P3D
CALSCALE:GREGORIAN
BEGIN:VEVENT
DTSTART:20190329T000000Z
DTEND:20190329T010000Z
X-MICROSOFT-CDO-ALLDAYEVENT:FALSE
SUMMARY:Grand Opening Back Porch Smoked Meats & Cheese House
DESCRIPTION:Join GGHI and the Ocean Shores Chamber of Commerce in celebrating Back Porch Smoked Meats & Cheese House's grand opening! The ribbon cutting will take place on March 28th at 5pm\, we hope to see you there.
X-ALT-DESC;FMTTYPE=text/html:<span style="caret-color: rgb(29\, 33\, 41)\; color: rgb(29\, 33\, 41)\; font-family: system-ui\, -apple-system\, BlinkMacSystemFont\, &quot\;.SFNSText-Regular&quot\;\, sans-serif\; font-size: 14px\; white-space: pre-wrap\;">Join GGHI and the Ocean Shores Chamber of Commerce in celebrating Back Porch Smoked Meats &amp\; Cheese House&#39\;s grand opening! The ribbon cutting will take place on March 28th at 5pm\, we hope to see you there. </span>
LOCATION:pin Back Porch Smoked Meats & Cheese House 861 Point Brown Ave NW\, Ocean Shores\, Washington 98569
UID:e.26.11887
SEQUENCE:3
DTSTAMP:20260424T163835Z
URL:https://chamber.graysharbor.org/events/details/grand-opening-back-porch-smoked-meats-cheese-house-11887
END:VEVENT

END:VCALENDAR
