BEGIN:VCALENDAR
VERSION:2.0
PRODID:-//ChamberMaster//Event Calendar 2.0//EN
METHOD:PUBLISH
X-PUBLISHED-TTL:P3D
REFRESH-INTERVAL:P3D
CALSCALE:GREGORIAN
BEGIN:VEVENT
DTSTART:20190330T210000Z
DTEND:20190331T060000Z
X-MICROSOFT-CDO-ALLDAYEVENT:FALSE
SUMMARY:Grand Opening of the New Parkway Tavern
DESCRIPTION:Come check out the all new Parkway Tavern in Aberdeen. They will be offering drink specials\, food specials and a band!
X-ALT-DESC;FMTTYPE=text/html:<span style="font-size:14px\;">Come check out the all new Parkway Tavern in Aberdeen. They will be offering d<span style="caret-color: rgb(29\, 33\, 41)\; color: rgb(29\, 33\, 41)\; font-family: system-ui\, -apple-system\, BlinkMacSystemFont\, &quot\;.SFNSText-Regular&quot\;\, sans-serif\;">rink specials\, food specials and a band!</span></span>
LOCATION:pin New Parkway Tavern 417 N Park Street\, Aberdeen\, Washington 98520
UID:e.26.11901
SEQUENCE:3
DTSTAMP:20260424T182013Z
URL:https://chamber.graysharbor.org/events/details/grand-opening-of-the-new-parkway-tavern-11901
END:VEVENT

END:VCALENDAR
