BEGIN:VCALENDAR
VERSION:2.0
PRODID:-//ChamberMaster//Event Calendar 2.0//EN
METHOD:PUBLISH
X-PUBLISHED-TTL:P3D
REFRESH-INTERVAL:P3D
CALSCALE:GREGORIAN
BEGIN:VEVENT
DTSTART;VALUE=DATE:20181013
DTEND;VALUE=DATE:20181015
TRANSP:TRANSPARENT
X-MICROSOFT-CDO-ALLDAYEVENT:TRUE
SUMMARY:Grayland Cranberry Harvest Festival
DESCRIPTION:A whole weekend filled of cranberry fun! \n\nBog tours\, Cranberry cook off\, and firelight parade.
X-ALT-DESC;FMTTYPE=text/html:<span style="color: rgb(29\, 33\, 41)\; font-family: Helvetica\, Arial\, sans-serif\; font-size: 14px\; background-color: rgb(255\, 255\, 255)\;">A whole weekend filled of cranberry fun!</span><span style="font-family: Helvetica\, Arial\, sans-serif\; font-size: 14px\; background-color: rgb(255\, 255\, 255)\;">&nbsp\;</span><br />\n<span style="font-family: arial\; font-size: 16px\; background-color: rgb(234\, 223\, 191)\;">Bog tours\, Cranberry cook off\, and firelight parade.</span>
LOCATION:Grayland Grange Hall
UID:e.26.11229
SEQUENCE:3
DTSTAMP:20260425T020102Z
URL:https://chamber.graysharbor.org/events/details/grayland-cranberry-harvest-festival-11229
END:VEVENT

END:VCALENDAR
