BEGIN:VCALENDAR
VERSION:2.0
PRODID:-//ChamberMaster//Event Calendar 2.0//EN
METHOD:PUBLISH
X-PUBLISHED-TTL:P3D
REFRESH-INTERVAL:P3D
CALSCALE:GREGORIAN
BEGIN:VEVENT
DTSTART:20250318T180000Z
DTEND:20250319T010000Z
X-MICROSOFT-CDO-ALLDAYEVENT:FALSE
SUMMARY:Grays Harbor College Career Fair
DESCRIPTION:Representatives from at least 30 local businesses will be in the tulalW Student Center at Grays Harbor College to promote employment opportunities at their organizations\n\nGrays Harbor College is hosting its annual career fair on Tuesday\, March 18 from 11:00 am to 6:00 pm.\n\nRepresentatives from Summit Pacific Medical Center\, the Quinault Indian Nation\, Washington State Dept. of Fish & Wildlife\, and many other regional employers will be at the career fair to showcase job openings\, internships\, and career pathways within their organizations.\n\nThis free event is open to GHC students as well as community members. To prepare for the career fair\, GHC provided workshops for students\, which covered skills like creating a resume\, developing a LinkedIn profile\, interviewing\, and more.\n\n"We don't want anyone to miss a chance in taking a big step towards their future! Mark your calendar\, and we look forward to seeing you there!" said Ashley Bowie Gallegos\, Dean of Student Services and Enrollment Management at GHC.
X-ALT-DESC;FMTTYPE=text/html:<p style="box-sizing: border-box\; margin: 0px 0px 1rem\; color: rgb(0\, 0\, 0)\; font-family: &quot\;Times New Roman&quot\;\; font-size: medium\;"><span style="font-family:arial\;"><em style="box-sizing: border-box\;">Representatives from at least 30 local businesses will be in the tulalW Student Center at Grays Harbor College to promote employment opportunities at their organizations</em></span></p>\n\n<p style="box-sizing: border-box\; margin: 0px 0px 1rem\; color: rgb(0\, 0\, 0)\; font-family: &quot\;Times New Roman&quot\;\; font-size: medium\;"><span style="font-family:arial\;">Grays Harbor College is hosting its annual career fair on Tuesday\, March 18 from 11:00 am to 6:00 pm.</span></p>\n\n<p style="box-sizing: border-box\; margin: 0px 0px 1rem\; color: rgb(0\, 0\, 0)\; font-family: &quot\;Times New Roman&quot\;\; font-size: medium\;"><span style="font-family:arial\;">Representatives from Summit Pacific Medical Center\, the Quinault Indian Nation\, Washington State Dept. of Fish &amp\; Wildlife\, and many other regional employers will be at the career fair to showcase job openings\, internships\, and career pathways within their organizations.</span></p>\n\n<p style="box-sizing: border-box\; margin: 0px 0px 1rem\; color: rgb(0\, 0\, 0)\; font-family: &quot\;Times New Roman&quot\;\; font-size: medium\;"><span style="font-family:arial\;">This free event is open to GHC students as well as community members. To prepare for the career fair\, GHC provided workshops for students\, which covered skills like creating a resume\, developing a LinkedIn profile\, interviewing\, and more.</span></p>\n\n<p style="box-sizing: border-box\; margin: 0px 0px 1rem\; color: rgb(0\, 0\, 0)\; font-family: &quot\;Times New Roman&quot\;\; font-size: medium\;"><span style="font-family:arial\;">&ldquo\;We don&#39\;t want anyone to miss a chance in taking a big step towards their future! Mark your calendar\, and we look forward to seeing you there!&rdquo\; said Ashley Bowie Gallegos\, Dean of Student Services and Enrollment Management at GHC.</span></p>\n
LOCATION:Room 3341 in the tulalW Student Center Grays Harbor College in Aberdeen
UID:e.26.15053
SEQUENCE:3
DTSTAMP:20260421T214825Z
URL:https://chamber.graysharbor.org/events/details/grays-harbor-college-career-fair-15053
END:VEVENT

END:VCALENDAR
