BEGIN:VCALENDAR
VERSION:2.0
PRODID:-//ChamberMaster//Event Calendar 2.0//EN
METHOD:PUBLISH
X-PUBLISHED-TTL:P3D
REFRESH-INTERVAL:P3D
CALSCALE:GREGORIAN
BEGIN:VEVENT
DTSTART:20200605T160000Z
DTEND:20200605T210000Z
X-MICROSOFT-CDO-ALLDAYEVENT:FALSE
SUMMARY:Grays Harbor College Virtual Career Fair
DESCRIPTION:Grays Harbor College will virtually hold its annual career fair on June 5th\, 9:00am   2:00pm. Regional employers will be participating in the online event that is open to both GHC students and community members. The career fair will be held via Zoom and will provide a safe environment for students and employers to virtually network. Meeting information can be found below or at www.ghc.edu/calendar. Employers interested in participating in the virtual career fair can contact wfspinfo@ghc.edu.
X-ALT-DESC;FMTTYPE=text/html:<span style="caret-color: rgb(29\, 33\, 41)\; color: rgb(29\, 33\, 41)\; font-family: system-ui\, -apple-system\, BlinkMacSystemFont\, &quot\;.SFNSText-Regular&quot\;\, sans-serif\; font-size: 14px\; white-space: pre-wrap\;">Grays Harbor College will virtually hold its annual career fair on June 5th\, 9:00am &ndash\; 2:00pm. Regional employers will be participating in the online event that is open to both GHC students and community members. The career fair will be held via Zoom and will provide a safe environment for students and employers to virtually network. Meeting information can be found below or at </span><a data-lynx-mode="hover" data-lynx-uri="https://l.facebook.com/l.php?u=http%3A%2F%2Fwww.ghc.edu%2Fcalendar%3Ffbclid%3DIwAR2iP-C1LUODTf7leL3N14KrdLLORa9KRF8upFz0n2S-tr6sbxF9ZZ_v2ss&amp\;h=AT1RJ2MbVb2YMgkn_3dNEkfumQ_yejGZiGNvrietw5uPYw8vE1UNdaBSjHtpOKtsxEKHOM1Dkx9Z34XZRcpOoTeU-2hphYWS-wFPtTLS6vODdEOAlmdozWvvVMn7czbtwKaKaCWobA" href="http://www.ghc.edu/calendar?fbclid=IwAR2iP-C1LUODTf7leL3N14KrdLLORa9KRF8upFz0n2S-tr6sbxF9ZZ_v2ss" rel="nofollow noopener" style="color: rgb(56\, 88\, 152)\; cursor: pointer\; text-decoration: none\; font-family: system-ui\, -apple-system\, BlinkMacSystemFont\, &quot\;.SFNSText-Regular&quot\;\, sans-serif\; font-size: 14px\; white-space: pre-wrap\;" target="_blank">www.ghc.edu/calendar</a><span style="caret-color: rgb(29\, 33\, 41)\; color: rgb(29\, 33\, 41)\; font-family: system-ui\, -apple-system\, BlinkMacSystemFont\, &quot\;.SFNSText-Regular&quot\;\, sans-serif\; font-size: 14px\; white-space: pre-wrap\;">. Employers interested in participating in the virtual career fair can contact wfspinfo@ghc.edu. </span>
LOCATION:Join Online https://ghc.zoom.us/j/99685943637 Join by Phone Call 1-253-215-8782 and enter meeting ID 996 8594 3637
UID:e.26.12467
SEQUENCE:3
DTSTAMP:20260424T104347Z
URL:https://chamber.graysharbor.org/events/details/grays-harbor-college-virtual-career-fair-12467
END:VEVENT

END:VCALENDAR
