BEGIN:VCALENDAR
VERSION:2.0
PRODID:-//ChamberMaster//Event Calendar 2.0//EN
METHOD:PUBLISH
X-PUBLISHED-TTL:P3D
REFRESH-INTERVAL:P3D
CALSCALE:GREGORIAN
BEGIN:VEVENT
DTSTART:20180114T230000Z
DTEND:20180115T000000Z
X-MICROSOFT-CDO-ALLDAYEVENT:FALSE
SUMMARY:Grays Harbor Community Concert Band-Debut Concert!
DESCRIPTION:GH Concert Band's debut performance!!
X-ALT-DESC;FMTTYPE=text/html:<span style="color: rgb(75\, 79\, 86)\; font-family: Helvetica\, Arial\, sans-serif\; font-size: 14px\; background-color: rgb(255\, 255\, 255)\;">GH Concert Band&#39\;s debut performance!!</span>
LOCATION:Bishop Center for Performing Arts Grays Harbor College Aberdeen\, WA
UID:e.26.9407
SEQUENCE:3
DTSTAMP:20260425T145955Z
URL:https://chamber.graysharbor.org/events/details/grays-harbor-community-concert-band-debut-concert-9407
END:VEVENT

END:VCALENDAR
