BEGIN:VCALENDAR
VERSION:2.0
PRODID:-//ChamberMaster//Event Calendar 2.0//EN
METHOD:PUBLISH
X-PUBLISHED-TTL:P3D
REFRESH-INTERVAL:P3D
CALSCALE:GREGORIAN
BEGIN:VEVENT
DTSTART:20210125T230000Z
DTEND:20210126T000000Z
X-MICROSOFT-CDO-ALLDAYEVENT:FALSE
SUMMARY:Grays Harbor Community Hospital Ocean Shores Zoom Meeting
DESCRIPTION:This is a Zoom Meeting with the Leadership of the Grays Harbor Community Hospital primary focus is Ocean Shores. They will make a short presentation and then be available for questions.
X-ALT-DESC;FMTTYPE=text/html:This is a Zoom Meeting with the Leadership of the Grays Harbor Community Hospital primary focus is Ocean Shores. They will make a short presentation and then be available for questions.
LOCATION:Zoom Ocean Shores
UID:e.26.12573
SEQUENCE:3
DTSTAMP:20260424T030726Z
URL:https://chamber.graysharbor.org/events/details/grays-harbor-community-hospital-ocean-shores-zoom-meeting-12573
END:VEVENT

END:VCALENDAR
