BEGIN:VCALENDAR
VERSION:2.0
PRODID:-//ChamberMaster//Event Calendar 2.0//EN
METHOD:PUBLISH
X-PUBLISHED-TTL:P3D
REFRESH-INTERVAL:P3D
CALSCALE:GREGORIAN
BEGIN:VEVENT
DTSTART;VALUE=DATE:20190807
DTEND;VALUE=DATE:20190812
TRANSP:TRANSPARENT
X-MICROSOFT-CDO-ALLDAYEVENT:TRUE
SUMMARY:Grays Harbor County Fair
DESCRIPTION:It is the mission of the Grays Harbor County Fair to educate and involve our guests by providing a world class showcase that is innovative\, entertaining and fun! Enjoy thrilling carnival rides\, an abundance of delicious fair food\, prize winning animals\, world-class entertainment and so much more this August 7th-11th.
X-ALT-DESC;FMTTYPE=text/html:<span style="font-size:14px\;"><span style="caret-color: rgb(29\, 33\, 41)\; color: rgb(29\, 33\, 41)\; font-family: system-ui\, -apple-system\, BlinkMacSystemFont\, &quot\;.SFNSText-Regular&quot\;\, sans-serif\;">It is the mission of the Grays Harbor County Fair to educate and involve our guests by providing a world class showcase that is innovative\, entertaining and fun! Enjoy thrilling carnival rides\, an abundance of delicious fair food\, prize winning animals\, world-class entertainment and so much more this August 7th-11th.</span></span>
LOCATION:Grays Harbor Fairgrounds Elma\, WA
UID:e.26.11765
SEQUENCE:3
DTSTAMP:20260424T090047Z
URL:https://chamber.graysharbor.org/events/details/grays-harbor-county-fair-11765
END:VEVENT

END:VCALENDAR
