BEGIN:VCALENDAR
VERSION:2.0
PRODID:-//ChamberMaster//Event Calendar 2.0//EN
METHOD:PUBLISH
X-PUBLISHED-TTL:P3D
REFRESH-INTERVAL:P3D
CALSCALE:GREGORIAN
BEGIN:VEVENT
DTSTART;VALUE=DATE:20190607
DTEND;VALUE=DATE:20190610
TRANSP:TRANSPARENT
X-MICROSOFT-CDO-ALLDAYEVENT:TRUE
SUMMARY:Grays Harbor County Festival of Colors
DESCRIPTION:Grays Harbor Festival of Colors is the premier kite festival on the west coast. This event is made for kite fliers of all skill levels with special events for kids. In the past we have had kite fliers coming from as far away as India\, Canada and many from the western United States. Our flying beach is famous for the consistency of the winds and mild temperatures.
X-ALT-DESC;FMTTYPE=text/html:<span style="background-color:rgb(255\, 255\, 255)\; color:rgb(128\, 128\, 128)\; font-family:lato\,sans-serif\; font-size:17.008px">Grays Harbor Festival of Colors is the premier kite festival on the west coast. This event is made for kite fliers of all skill levels with special events for kids. In the past we have had kite fliers coming from as far away as India\, Canada and many from the western United States. Our flying beach is famous for the consistency of the winds and mild temperatures.</span>
LOCATION:Ocean Shores Convention Center 120 W Chance A La Mer Ave Ocean Shores\, WA 98569
UID:e.26.11867
SEQUENCE:3
DTSTAMP:20260424T133307Z
URL:https://chamber.graysharbor.org/events/details/grays-harbor-county-festival-of-colors-11867
END:VEVENT

END:VCALENDAR
