BEGIN:VCALENDAR
VERSION:2.0
PRODID:-//ChamberMaster//Event Calendar 2.0//EN
METHOD:PUBLISH
X-PUBLISHED-TTL:P3D
REFRESH-INTERVAL:P3D
CALSCALE:GREGORIAN
BEGIN:VEVENT
DTSTART;VALUE=DATE:20170603
DTEND;VALUE=DATE:20170605
TRANSP:TRANSPARENT
X-MICROSOFT-CDO-ALLDAYEVENT:TRUE
SUMMARY:Grays Harbor Festival of Colors
DESCRIPTION:A free community gathering of kite flyers of all caliber. No skills required to join in the fun. There will kite flying demonstrations by flyers from Canada and from around the United States\, as well as kites on display for your viewing pleasure. We will also be having free Kids Kite making from 11-2pm. All activities are on the beach just north of Damon Road\, near Oyhut\, WA.and are weather dependant. If you want\, you can also join us for dinner at the Ocean Shores Elementary School at 6:00pm for our dinner ($10.00 a ticket) and get some raffle tickets for prizes of all kind.
X-ALT-DESC;FMTTYPE=text/html:A free community gathering of kite flyers of all caliber. No skills required to join in the fun. There will kite flying demonstrations by flyers from Canada and from around the United States\, as well as kites on display for your viewing pleasure. We will also be having free Kids Kite making from 11-2pm. All activities are on the beach just north of Damon Road\, near Oyhut\, WA.and are weather dependant. If you want\, you can also join us for dinner at the Ocean Shores Elementary School at 6:00pm for our dinner ($10.00 a ticket) and get some raffle tickets for prizes of all kind.
LOCATION:North of Damon Road\, near Oyhut\, WA
UID:e.26.7705
SEQUENCE:3
DTSTAMP:20260426T033220Z
URL:https://chamber.graysharbor.org/events/details/grays-harbor-festival-of-colors-7705
END:VEVENT

END:VCALENDAR
