BEGIN:VCALENDAR
VERSION:2.0
PRODID:-//ChamberMaster//Event Calendar 2.0//EN
METHOD:PUBLISH
X-PUBLISHED-TTL:P3D
REFRESH-INTERVAL:P3D
CALSCALE:GREGORIAN
BEGIN:VEVENT
DTSTART;VALUE=DATE:20190323
DTEND;VALUE=DATE:20190325
TRANSP:TRANSPARENT
X-MICROSOFT-CDO-ALLDAYEVENT:TRUE
SUMMARY:Grays Harbor Gulls FC Tryouts
DESCRIPTION:Tryouts for Grays Harbor's mens' soccer team\, Grays Harbor Gulls FC!
X-ALT-DESC;FMTTYPE=text/html:<span style="caret-color: rgb(29\, 33\, 41)\; color: rgb(29\, 33\, 41)\; font-family: system-ui\, -apple-system\, BlinkMacSystemFont\, &quot\;.SFNSText-Regular&quot\;\, sans-serif\; font-size: 14px\; white-space: pre-wrap\;">Tryouts for Grays Harbor&#39\;s mens&#39\; soccer team\, Grays Harbor Gulls FC!</span>
LOCATION:pin Stewart Field in Aberdeen\, WA 1516 N B St\, Aberdeen\, Washington 43812
UID:e.26.11894
SEQUENCE:3
DTSTAMP:20260424T163642Z
URL:https://chamber.graysharbor.org/events/details/grays-harbor-gulls-fc-tryouts-11894
END:VEVENT

END:VCALENDAR
