BEGIN:VCALENDAR
VERSION:2.0
PRODID:-//ChamberMaster//Event Calendar 2.0//EN
METHOD:PUBLISH
X-PUBLISHED-TTL:P3D
REFRESH-INTERVAL:P3D
CALSCALE:GREGORIAN
BEGIN:VEVENT
DTSTART:20180303T180000Z
DTEND:20180303T210000Z
X-MICROSOFT-CDO-ALLDAYEVENT:FALSE
SUMMARY:Grays Harbor Gulls Open Tryouts
DESCRIPTION:Open Tryouts for Grays Harbor Gulls FC mens soccer team.
X-ALT-DESC;FMTTYPE=text/html:<span style="color: rgb(75\, 79\, 86)\; font-family: Helvetica\, Arial\, sans-serif\; font-size: 14px\; background-color: rgb(255\, 255\, 255)\;">Open Tryouts for Grays Harbor Gulls FC mens soccer team.</span>
LOCATION:pin Stewart Field in Aberdeen\, WA 1516 N B St\, Aberdeen\, Washington 31315
UID:e.26.9538
SEQUENCE:3
DTSTAMP:20260425T131002Z
URL:https://chamber.graysharbor.org/events/details/grays-harbor-gulls-open-tryouts-9538
END:VEVENT

END:VCALENDAR
