BEGIN:VCALENDAR
VERSION:2.0
PRODID:-//ChamberMaster//Event Calendar 2.0//EN
METHOD:PUBLISH
X-PUBLISHED-TTL:P3D
REFRESH-INTERVAL:P3D
CALSCALE:GREGORIAN
BEGIN:VEVENT
DTSTART:20190601T230000Z
DTEND:20190602T020000Z
X-MICROSOFT-CDO-ALLDAYEVENT:FALSE
SUMMARY:Grays Harbor Gulls vs Lacey FC
DESCRIPTION:The Grays Harbor Gulls host WWPL rival Lacey FC.
X-ALT-DESC;FMTTYPE=text/html:<span style="caret-color: rgb(29\, 33\, 41)\; color: rgb(29\, 33\, 41)\; font-family: system-ui\, -apple-system\, BlinkMacSystemFont\, &quot\;.SFNSText-Regular&quot\;\, sans-serif\; font-size: 14px\; white-space: pre-wrap\;">The Grays Harbor Gulls host WWPL rival Lacey FC.</span>
LOCATION:pin Stewart Field in Aberdeen\, WA 1516 N B St\, Aberdeen\, Washington 43812
UID:e.26.11932
SEQUENCE:3
DTSTAMP:20260424T120832Z
URL:https://chamber.graysharbor.org/events/details/grays-harbor-gulls-vs-lacey-fc-11932
END:VEVENT

END:VCALENDAR
