BEGIN:VCALENDAR
VERSION:2.0
PRODID:-//ChamberMaster//Event Calendar 2.0//EN
METHOD:PUBLISH
X-PUBLISHED-TTL:P3D
REFRESH-INTERVAL:P3D
CALSCALE:GREGORIAN
BEGIN:VEVENT
DTSTART:20190518T160000Z
DTEND:20190519T230000Z
X-MICROSOFT-CDO-ALLDAYEVENT:FALSE
SUMMARY:Grays Harbor Home and Garden Show
DESCRIPTION:The 2019 Grays Harbor Home and Garden Show will be held May 18 and 19 at the Grays Harbor County Fairgrounds in Elma\, WA. The Pavilion will be filled with plants\, garden accessories\, home goods\, services\, and inspiration. The show is hosted by the WSU Master Gardeners of Grays Harbor and Pacific Counties and runs Saturday\, May 18 from 9:00 AM to 5:00 PM and Sunday\, May 19 from 10:00 AM to 4:00 PM.
X-ALT-DESC;FMTTYPE=text/html:The 2019 Grays Harbor Home and Garden Show will be held May 18 and 19 at the Grays Harbor County Fairgrounds in Elma\, WA. The Pavilion will be filled with plants\, garden accessories\, home goods\, services\, and inspiration. The show is hosted by the WSU Master Gardeners of Grays Harbor and Pacific Counties and runs Saturday\, May 18 from 9:00 AM to 5:00 PM and Sunday\, May 19 from 10:00 AM to 4:00 PM.
LOCATION:Grays Harbor County Fairgrounds
UID:e.26.11355
SEQUENCE:3
DTSTAMP:20260424T132910Z
URL:https://chamber.graysharbor.org/events/details/grays-harbor-home-and-garden-show-11355
END:VEVENT

END:VCALENDAR
