BEGIN:VCALENDAR
VERSION:2.0
PRODID:-//ChamberMaster//Event Calendar 2.0//EN
METHOD:PUBLISH
X-PUBLISHED-TTL:P3D
REFRESH-INTERVAL:P3D
CALSCALE:GREGORIAN
BEGIN:VEVENT
DTSTART:20170504T140000Z
DTEND:20170504T154500Z
X-MICROSOFT-CDO-ALLDAYEVENT:FALSE
SUMMARY:Grays Harbor Mayors Prayer Breakfast
DESCRIPTION:Come pray for our communities and those who serve them in leadership "the mayors".\n\n\n\nGuest Speaker: Jamie Winship \, who ministered in Muslim countries for 25 years and spoke at this years Governor's Prayer Breakfast.\n\n\n\nMaster of Ceremonies: Retired Senator Jim Hargrove \n\n\n\nMusic by: Erica Corban Aberdeen's Participant on "The Voice" and Performer for the 2016 Governors and Mayor's Prayer Breakfasts.\n\n\n\nCatered by O'Brien's - RSVP to 532-4419\n\n\n\nSponsored by: Harbor Ministers Fellowship
X-ALT-DESC;FMTTYPE=text/html:Come pray for our communities and those who serve them in leadership &quot\;the mayors&quot\;.<br />\n<br />\n<strong>Guest Speaker: </strong><em>Jamie Winship</em> \, who ministered in Muslim countries for 25 years and spoke at this years Governor&#39\;s Prayer Breakfast.<br />\n<br />\n<strong>Master of Ceremonies:</strong> Retired Senator <em>Jim Hargrove </em><br />\n<br />\n<strong>Music by:</strong> <em>Erica Corban </em>Aberdeen&#39\;s Participant on &quot\;The Voice&quot\; and Performer for the 2016 Governors and Mayor&#39\;s Prayer Breakfasts.<br />\n<br />\n<strong>Catered by O&#39\;Brien&#39\;s - RSVP to 532-4419<br />\n<br />\nSponsored by: Harbor Ministers Fellowship </strong>
LOCATION:Aberdeen Rotary Log Pavilion
UID:e.26.7682
SEQUENCE:3
DTSTAMP:20260426T032735Z
URL:https://chamber.graysharbor.org/events/details/grays-harbor-mayors-prayer-breakfast-7682
END:VEVENT

END:VCALENDAR
