BEGIN:VCALENDAR
VERSION:2.0
PRODID:-//ChamberMaster//Event Calendar 2.0//EN
METHOD:PUBLISH
X-PUBLISHED-TTL:P3D
REFRESH-INTERVAL:P3D
CALSCALE:GREGORIAN
BEGIN:VEVENT
DTSTART;VALUE=DATE:20190504
DTEND;VALUE=DATE:20190506
TRANSP:TRANSPARENT
X-MICROSOFT-CDO-ALLDAYEVENT:TRUE
SUMMARY:Grays Harbor Outdoor EXPO
DESCRIPTION:Join us at the Shoppes at Riverside in Aberdeen for this family-friendly event Saturday\, May 4th & Sunday\, May 5th\, Grays Harbor Outdoor EXPO:  hands-on activities\, exhibitors\, educational seminars\, food\, prizes\, and more.\n\n \n\nLearn from the hunting\, fishing\, and camping experts with how-to-seminars\, product demonstrations offering tips\, techniques and the latest gear. Visitors and lifelong residents alike will learn more about what Coastal Washington and the Olympic Peninsula have to offer.
X-ALT-DESC;FMTTYPE=text/html:<p dir="ltr" style="line-height: 1.7999999999999998\; margin-top: 0pt\; margin-bottom: 0pt\;"><span style="font-size:16px\;"><span id="docs-internal-guid-f21abd57-7fff-efc7-442d-5a760fdbf4b4"><span style="font-family: &quot\;Times New Roman&quot\;\; background-color: transparent\; font-weight: 400\; font-style: normal\; font-variant-ligatures: normal\; font-variant-caps: normal\; font-variant-east-asian: normal\; font-variant-position: normal\; text-decoration: none\; vertical-align: baseline\; white-space: pre-wrap\;">Join us at the Shoppes at Riverside in Aberdeen for this family-friendly event Saturday\, May 4</span><span style="font-family: &quot\;Times New Roman&quot\;\; background-color: transparent\; font-weight: 400\; font-style: normal\; font-variant-ligatures: normal\; font-variant-caps: normal\; font-variant-east-asian: normal\; font-variant-position: normal\; text-decoration: none\; vertical-align: super\; white-space: pre-wrap\;">th</span><span style="font-family: &quot\;Times New Roman&quot\;\; background-color: transparent\; font-weight: 400\; font-style: normal\; font-variant-ligatures: normal\; font-variant-caps: normal\; font-variant-east-asian: normal\; font-variant-position: normal\; text-decoration: none\; vertical-align: baseline\; white-space: pre-wrap\;"> &amp\; Sunday\, May 5th\, Grays Harbor Outdoor EXPO: &nbsp\;hands-on activities\, exhibitors\, educational seminars\, food\, prizes\, and more.</span></span></span></p>\n\n<p dir="ltr" style="line-height: 1.7999999999999998\; margin-top: 0pt\; margin-bottom: 0pt\;">&nbsp\;</p>\n\n<p dir="ltr" style="line-height: 1.7999999999999998\; margin-top: 0pt\; margin-bottom: 0pt\;"><span style="font-size:16px\;"><span id="docs-internal-guid-f21abd57-7fff-efc7-442d-5a760fdbf4b4"><span style="font-family: &quot\;Times New Roman&quot\;\; font-variant-ligatures: normal\; font-variant-east-asian: normal\; font-variant-position: normal\; vertical-align: baseline\; white-space: pre-wrap\;">Learn from the hunting\, fishing\, and camping experts with how-to-seminars\, product demonstrations offering tips\, techniques and the latest gear. </span><span style="font-family: &quot\;Times New Roman&quot\;\; white-space: pre-wrap\;">Visitors and lifelong residents alike will learn more about what Coastal Washington and the Olympic Peninsula have to offer.</span></span></span></p>\n
LOCATION:Shoppes at Riverside Aberdeen\, WA
UID:e.26.11683
SEQUENCE:3
DTSTAMP:20260424T150723Z
URL:https://chamber.graysharbor.org/events/details/grays-harbor-outdoor-expo-11683
END:VEVENT

END:VCALENDAR
