BEGIN:VCALENDAR
VERSION:2.0
PRODID:-//ChamberMaster//Event Calendar 2.0//EN
METHOD:PUBLISH
X-PUBLISHED-TTL:P3D
REFRESH-INTERVAL:P3D
CALSCALE:GREGORIAN
BEGIN:VEVENT
DTSTART:20190803T180000Z
DTEND:20190804T050000Z
X-MICROSOFT-CDO-ALLDAYEVENT:FALSE
SUMMARY:Grays Harbor Pride Festival
DESCRIPTION:Out & Proud Grays Harbor Coalition hosts it's 6th Annual Pride Festival.
X-ALT-DESC;FMTTYPE=text/html:Out &amp\; Proud Grays Harbor Coalition hosts it&#39\;s 6th Annual Pride Festival.
LOCATION:Shoppes at Riverside
UID:e.26.12129
SEQUENCE:3
DTSTAMP:20260424T090541Z
URL:https://chamber.graysharbor.org/events/details/grays-harbor-pride-festival-08-03-2019-12129
END:VEVENT

END:VCALENDAR
