BEGIN:VCALENDAR
VERSION:2.0
PRODID:-//ChamberMaster//Event Calendar 2.0//EN
METHOD:PUBLISH
X-PUBLISHED-TTL:P3D
REFRESH-INTERVAL:P3D
CALSCALE:GREGORIAN
BEGIN:VEVENT
DTSTART;VALUE=DATE:20170819
DTEND;VALUE=DATE:20170820
TRANSP:TRANSPARENT
X-MICROSOFT-CDO-ALLDAYEVENT:TRUE
SUMMARY:Grays Harbor Pride Festival
DESCRIPTION:Festival raising awareness for LGBTQ.
X-ALT-DESC;FMTTYPE=text/html:Festival raising awareness for LGBTQ.
LOCATION:Hoquiam\, WA
UID:e.26.7604
SEQUENCE:3
DTSTAMP:20260426T003300Z
URL:https://chamber.graysharbor.org/events/details/grays-harbor-pride-festival-7604
END:VEVENT

END:VCALENDAR
