BEGIN:VCALENDAR
VERSION:2.0
PRODID:-//ChamberMaster//Event Calendar 2.0//EN
METHOD:PUBLISH
X-PUBLISHED-TTL:P3D
REFRESH-INTERVAL:P3D
CALSCALE:GREGORIAN
BEGIN:VEVENT
DTSTART:20260425T210000Z
DTEND:20260426T030000Z
X-MICROSOFT-CDO-ALLDAYEVENT:FALSE
SUMMARY:Grays Harbor Raceway - Round 2
DESCRIPTION:EVENT DETAILS\n\nClasses\n\n\n	IMCA Modified\n	IMCA Northern SportMod\n	Dwarf Cars\n	Hornets\n\n\nEVENT TIMES\n\n\n	Pits Open 2:00 PM\n	Gates Open 4:30 PM\n	Hot Laps At5:00 PM\n	Racing Starts6:00 PM\n\n\nTicket Questions?\n\nAll ticket questions should be directed to the ticket seller.\n\nContact\n\n\n	360-482-4374\n	30 Elma McCleary Road\n	\n		Elma WA 98541
X-ALT-DESC;FMTTYPE=text/html:<h2 style="margin-bottom:8px\;margin-top:0px\;"><span style="font-size:14px\;"><span style="font-family:arial\;">EVENT DETAILS</span></span></h2>\n\n<h3 style="margin-bottom:0px\;margin-top:0px\;"><strong><span style="font-size:14px\;"><span style="font-family:arial\;">Classes</span></span></strong></h3>\n\n<ul>\n	<li><span style="font-size:14px\;"><span style="font-family:arial\;">IMCA Modified</span></span></li>\n	<li><span style="font-size:14px\;"><span style="font-family:arial\;">IMCA Northern SportMod</span></span></li>\n	<li><span style="font-size:14px\;"><span style="font-family:arial\;">Dwarf Cars</span></span></li>\n	<li><span style="font-size:14px\;"><span style="font-family:arial\;">Hornets</span></span></li>\n</ul>\n\n<h3 style="margin-bottom:0px\;margin-top:0px\;"><span style="font-size:14px\;"><span style="font-family:arial\;">EVENT TIMES</span></span></h3>\n\n<ul>\n	<li><span style="font-size:14px\;"><span style="font-family:arial\;">Pits Open 2:00 PM</span></span></li>\n	<li><span style="font-size:14px\;"><span style="font-family:arial\;">Gates Open 4:30 PM</span></span></li>\n	<li><span style="font-size:14px\;"><span style="font-family:arial\;">Hot Laps At5:00 PM</span></span></li>\n	<li><span style="font-size:14px\;"><span style="font-family:arial\;">Racing Starts6:00 PM</span></span></li>\n</ul>\n\n<h3 style="margin-bottom:8px\;margin-top:0px\;"><span style="font-size:14px\;"><span style="font-family:arial\;">Ticket Questions?</span></span></h3>\n\n<p style="margin-bottom:0px\;margin-top:0px\;"><span style="font-size:14px\;"><span style="font-family:arial\;">All ticket questions should be directed to the ticket seller.</span></span></p>\n\n<h3 style="margin-bottom:8px\;margin-top:0px\;"><span style="font-size:14px\;"><span style="font-family:arial\;">Contact</span></span></h3>\n\n<ul>\n	<li><span style="font-size:14px\;"><span style="font-family:arial\;"><a href="tel:360-482-4374" rel="noreferrer noopener" target="_blank" title="tel:360-482-4374">360-482-4374</a></span></span></li>\n	<li><span style="font-size:14px\;"><span style="font-family:arial\;">30 Elma McCleary Road</span></span>\n	<ul>\n		<li style="margin-bottom:0px\;margin-top:0px\;"><span style="font-size:14px\;"><span style="font-family:arial\;">Elma WA 98541</span></span></li>\n	</ul>\n	</li>\n</ul>\n
LOCATION:30 Elma McCleary Road Elma WA 98541
UID:e.26.16793
SEQUENCE:3
DTSTAMP:20260421T041439Z
URL:https://chamber.graysharbor.org/events/details/grays-harbor-raceway-round-2-16793
END:VEVENT

END:VCALENDAR
