BEGIN:VCALENDAR
VERSION:2.0
PRODID:-//ChamberMaster//Event Calendar 2.0//EN
METHOD:PUBLISH
X-PUBLISHED-TTL:P3D
REFRESH-INTERVAL:P3D
CALSCALE:GREGORIAN
BEGIN:VEVENT
DTSTART:20190404T233000Z
DTEND:20190405T010000Z
X-MICROSOFT-CDO-ALLDAYEVENT:FALSE
SUMMARY:Grays Harbor's Plan to Address Homelessness
DESCRIPTION:April 4\, 4:30-6 at the Convention Center\n\nGrays Harbor's Plan to Address Homelessness\n\n\n\nWorkshop is seeking input from Ocean Shores and the North Beach.\n\n\n\nGH County will be updating its plan to address homelessness in early 2019 and it provides an opportunity for discussion and dialog with community stakeholders\, including stakeholders in Ocean Shores/North Beach. The County would like the opportunity to share some information about homelessness in Grays Harbor\, what is required to be part of our plan update\, how that impacts the funding we have available\, and where there is flexibility to ask for and use stakeholder input in our community's plan.\n\n\n\nHousing Coordinator Cassie Lentz from Grays Harbor County Public Health and Social Services will be facilitating an interactive workshop to gather critical feedback.
X-ALT-DESC;FMTTYPE=text/html:<span style="caret-color: rgb(29\, 33\, 41)\; color: rgb(29\, 33\, 41)\; font-family: system-ui\, -apple-system\, BlinkMacSystemFont\, &quot\;.SFNSText-Regular&quot\;\, sans-serif\; font-size: 14px\; white-space: pre-wrap\;">April 4\, 4:30-6 at the Convention Center</span><br style="caret-color: rgb(29\, 33\, 41)\; color: rgb(29\, 33\, 41)\; font-family: system-ui\, -apple-system\, BlinkMacSystemFont\, &quot\;.SFNSText-Regular&quot\;\, sans-serif\; font-size: 14px\; white-space: pre-wrap\;" />\n<span style="caret-color: rgb(29\, 33\, 41)\; color: rgb(29\, 33\, 41)\; font-family: system-ui\, -apple-system\, BlinkMacSystemFont\, &quot\;.SFNSText-Regular&quot\;\, sans-serif\; font-size: 14px\; white-space: pre-wrap\;">Grays Harbor&#39\;s Plan to Address Homelessness</span><br style="caret-color: rgb(29\, 33\, 41)\; color: rgb(29\, 33\, 41)\; font-family: system-ui\, -apple-system\, BlinkMacSystemFont\, &quot\;.SFNSText-Regular&quot\;\, sans-serif\; font-size: 14px\; white-space: pre-wrap\;" />\n<br style="caret-color: rgb(29\, 33\, 41)\; color: rgb(29\, 33\, 41)\; font-family: system-ui\, -apple-system\, BlinkMacSystemFont\, &quot\;.SFNSText-Regular&quot\;\, sans-serif\; font-size: 14px\; white-space: pre-wrap\;" />\n<span style="caret-color: rgb(29\, 33\, 41)\; color: rgb(29\, 33\, 41)\; font-family: system-ui\, -apple-system\, BlinkMacSystemFont\, &quot\;.SFNSText-Regular&quot\;\, sans-serif\; font-size: 14px\; white-space: pre-wrap\;">Workshop is seeking input from Ocean Shores and the North Beach.</span><br style="caret-color: rgb(29\, 33\, 41)\; color: rgb(29\, 33\, 41)\; font-family: system-ui\, -apple-system\, BlinkMacSystemFont\, &quot\;.SFNSText-Regular&quot\;\, sans-serif\; font-size: 14px\; white-space: pre-wrap\;" />\n<br style="caret-color: rgb(29\, 33\, 41)\; color: rgb(29\, 33\, 41)\; font-family: system-ui\, -apple-system\, BlinkMacSystemFont\, &quot\;.SFNSText-Regular&quot\;\, sans-serif\; font-size: 14px\; white-space: pre-wrap\;" />\n<span style="caret-color: rgb(29\, 33\, 41)\; color: rgb(29\, 33\, 41)\; font-family: system-ui\, -apple-system\, BlinkMacSystemFont\, &quot\;.SFNSText-Regular&quot\;\, sans-serif\; font-size: 14px\; white-space: pre-wrap\;">GH County will be updating its plan to address homelessness in early 2019 and it provides an opportunity for discussion and dialog with community stakeholders\, including stakeholders in Ocean Shores/North Beach. The County would like the opportunity to share some information about homelessness in Grays Harbor\, what is required to be part of our plan update\, how that impacts the funding we have available\, and where there is flexibility to ask for and use stakeholder input in our community&#39\;s plan.</span><br style="caret-color: rgb(29\, 33\, 41)\; color: rgb(29\, 33\, 41)\; font-family: system-ui\, -apple-system\, BlinkMacSystemFont\, &quot\;.SFNSText-Regular&quot\;\, sans-serif\; font-size: 14px\; white-space: pre-wrap\;" />\n<br style="caret-color: rgb(29\, 33\, 41)\; color: rgb(29\, 33\, 41)\; font-family: system-ui\, -apple-system\, BlinkMacSystemFont\, &quot\;.SFNSText-Regular&quot\;\, sans-serif\; font-size: 14px\; white-space: pre-wrap\;" />\n<span style="caret-color: rgb(29\, 33\, 41)\; color: rgb(29\, 33\, 41)\; font-family: system-ui\, -apple-system\, BlinkMacSystemFont\, &quot\;.SFNSText-Regular&quot\;\, sans-serif\; font-size: 14px\; white-space: pre-wrap\;">Housing Coordinator Cassie Lentz from Grays Harbor County Public Health and Social Services will be facilitating an interactive workshop to gather critical feedback.</span>
LOCATION:pin Ocean Shores Convention Center 120 W Chance A la Mer NW\, Ocean Shores\, Washington 98569
UID:e.26.11888
SEQUENCE:3
DTSTAMP:20260424T163640Z
URL:https://chamber.graysharbor.org/events/details/grays-harbor-s-plan-to-address-homelessness-11888
END:VEVENT

END:VCALENDAR
