BEGIN:VCALENDAR
VERSION:2.0
PRODID:-//ChamberMaster//Event Calendar 2.0//EN
METHOD:PUBLISH
X-PUBLISHED-TTL:P3D
REFRESH-INTERVAL:P3D
CALSCALE:GREGORIAN
BEGIN:VEVENT
DTSTART:20171205T173000Z
DTEND:20171205T173000Z
X-MICROSOFT-CDO-ALLDAYEVENT:FALSE
SUMMARY:Grays Harbor Satellite Bible Study Fellowship
DESCRIPTION:Womens Bible Study Fellowship Satellite Class in Grays Harbor will be studying Romans this year.\n\nClass starts September 12\, 2017 and meets on Tuesdays 9:30 to 11:00 at Montesano Church of God\; 317 E Spruce Ave. Montesano\, WA. 98563. Contact Lorie Harmon at 360-888-8862\, lorieharmon@gmail.com\, or visit the BSF website at www.bsfinternational.org. Come and see if this class is for you.
X-ALT-DESC;FMTTYPE=text/html:Womens Bible Study Fellowship Satellite Class in Grays Harbor will be studying Romans this year.<br>\nClass starts September 12\, 2017 and meets on Tuesdays 9:30 to 11:00 at Montesano Church of God\; 317 E Spruce Ave. Montesano\, WA. 98563. Contact Lorie Harmon at 360-888-8862\, lorieharmon@gmail.com\, or visit the BSF website at www.bsfinternational.org. Come and see if this class is for you.
LOCATION:Montesano Church of God 317 E Spruce Ave. Montesano\, WA 98563
UID:e.26.9420
SEQUENCE:3
DTSTAMP:20260425T163923Z
URL:https://chamber.graysharbor.org/events/details/grays-harbor-satellite-bible-study-fellowship-12-05-2017-9420
END:VEVENT

END:VCALENDAR
