BEGIN:VCALENDAR
VERSION:2.0
PRODID:-//ChamberMaster//Event Calendar 2.0//EN
METHOD:PUBLISH
X-PUBLISHED-TTL:P3D
REFRESH-INTERVAL:P3D
CALSCALE:GREGORIAN
BEGIN:VEVENT
DTSTART;VALUE=DATE:20180427
DTEND;VALUE=DATE:20180430
TRANSP:TRANSPARENT
X-MICROSOFT-CDO-ALLDAYEVENT:TRUE
SUMMARY:Grays Harbor Shorebird Festival
DESCRIPTION:Each spring\, hundreds of thousands of shorebirds stop to rest and feed along the Washington Coast and in the Grays Harbor estuary during their migration northward. Coming from as far south as Argentina\, these Arctic-bound shorebirds are among the world's greatest migrants. Some birds travel over 15\,000 miles round trip! The concentration of birds during spring migration offers people a great chance to view a number of shorebird species.\n\n\n\nOn Friday\, until 3pm\, events start or are located at the Grays Harbor National Wildlife Refuge Office on Airport Way. On Friday starting at 4pm\, then all day Saturday and Sunday\, the Festival Headquarters is at Hoquiam Junior School\, Hoquiam. From Aberdeen\, follow US 101 to Hoquiam. Stay in the left lane onto Highway 109 (Ocean Shores Hwy.)\, this is also Emerson Ave. About 1.0 mile after the intersection\, turn right on N. Spencer.  The Hoquiam Jr. High is located on the right in the middle of the block. Park in the school lot. Maps can be found here.\n\n\n\nFacebook event: https://www.facebook.com/events/393221531129766/
X-ALT-DESC;FMTTYPE=text/html:<span style="font-family: Roboto\, sans-serif\; font-size: 14px\; background-color: rgb(252\, 247\, 228)\;">Each spring\, hundreds of thousands of shorebirds stop to rest and feed along the Washington Coast and in the Grays Harbor estuary during their migration northward. Coming from as far south as Argentina\, these Arctic-bound shorebirds are among the world&rsquo\;s greatest migrants. Some birds travel over 15\,000 miles round trip! The concentration of birds during spring migration offers people a great chance to view a number of shorebird species.</span><br />\n<br />\n<span style="color: rgb(29\, 29\, 29)\; font-family: Helvetica\, Arial\, sans-serif\; font-size: 14px\; background-color: rgb(255\, 255\, 255)\;">On Friday\, until 3pm\, events start or are located at the Grays Harbor National Wildlife Refuge Office on Airport Way. On Friday starting at 4pm\, then all day Saturday and Sunday\, the Festival Headquarters is at Hoquiam&nbsp\;Junior School\, Hoquiam. From Aberdeen\, follow US 101 to Hoquiam. Stay in the left lane onto Highway 109 (Ocean Shores Hwy.)\, this is also Emerson Ave. About&nbsp\;1.0 mile after the intersection\, turn right on N. Spencer.&nbsp\;&nbsp\;The Hoquiam Jr. High is located&nbsp\;on the right in the middle of the block. Park in the school lot.&nbsp\;</span><a href="http://www.shorebirdfestival.com/area/map" style="margin: 0px\; padding: 0px\; outline: 0px\; border: 0px currentColor\; border-image: none\; color: rgb(0\, 76\, 153)\; font-family: Helvetica\, Arial\, sans-serif\; font-size: 14px\; vertical-align: baseline\; background-color: rgb(255\, 255\, 255)\; text-decoration-line: none\;">Maps can be found here</a><span style="color: rgb(29\, 29\, 29)\; font-family: Helvetica\, Arial\, sans-serif\; font-size: 14px\; background-color: rgb(255\, 255\, 255)\;">.<br />\n<br />\nFacebook event:&nbsp\;</span>https://www.facebook.com/events/393221531129766/
LOCATION:Hoquiam
UID:e.26.9441
SEQUENCE:3
DTSTAMP:20260425T114745Z
URL:https://chamber.graysharbor.org/events/details/grays-harbor-shorebird-festival-9441
END:VEVENT

END:VCALENDAR
