BEGIN:VCALENDAR
VERSION:2.0
PRODID:-//ChamberMaster//Event Calendar 2.0//EN
METHOD:PUBLISH
X-PUBLISHED-TTL:P3D
REFRESH-INTERVAL:P3D
CALSCALE:GREGORIAN
BEGIN:VEVENT
DTSTART;VALUE=DATE:20190713
DTEND;VALUE=DATE:20190714
TRANSP:TRANSPARENT
X-MICROSOFT-CDO-ALLDAYEVENT:TRUE
SUMMARY:Grays Harbor Youth Athletics Golf Tournament\, Dinner & Auction
DESCRIPTION:Golf Tournament: The 2019 Annual Grays Harbor Youth Athletics Golf Tournament will be July 13th at the Ocean Shores Golf Course 11:00 am. For more information or to sign up call the golf course at 360-289-3357. Dinner and Auction to follow at Ocean Shores Convention Center 5:30 pm. Tickets will be $35 and can be purchased starting now at the Ocean Shores Convention Center Monday-Friday 10:00am-2:00pm. If you golf in the tournament you will be given a complimentary dinner and auction ticket. All proceeds go to the Grays Harbor Youth Athletics fund which helps to sponsor both athletic and non-athletic activities for the youth of Grays Harbor. All are invited to come watch the Football Camp on July 14th at Olympic Stadium in Hoquiam\, WA from 11:00 am - 4:00 pm.
X-ALT-DESC;FMTTYPE=text/html:<span style="background-color:rgb(255\, 255\, 255)\; color:rgb(128\, 128\, 128)\; font-family:lato\,sans-serif\; font-size:17.008px">Golf Tournament: The 2019 Annual Grays Harbor Youth Athletics Golf Tournament will be July 13th at the Ocean Shores Golf Course 11:00 am. For more information or to sign up call the golf course at 360-289-3357. Dinner and Auction to follow at Ocean Shores Convention Center 5:30 pm. Tickets will be $35 and can be purchased starting now at the Ocean Shores Convention Center Monday-Friday 10:00am-2:00pm. If you golf in the tournament you will be given a complimentary dinner and auction ticket. All proceeds go to the Grays Harbor Youth Athletics fund which helps to sponsor both athletic and non-athletic activities for the youth of Grays Harbor. All are invited to come watch the Football Camp on July 14th at Olympic Stadium in Hoquiam\, WA from 11:00 am - 4:00 pm.</span>
LOCATION:Ocean Shores Convention Center 120 W Chance A La Mer Ave Ocean Shores\, WA 98569
UID:e.26.11924
SEQUENCE:3
DTSTAMP:20260424T104622Z
URL:https://chamber.graysharbor.org/events/details/grays-harbor-youth-athletics-golf-tournament-dinner-auction-11924
END:VEVENT

END:VCALENDAR
