BEGIN:VCALENDAR
VERSION:2.0
PRODID:-//ChamberMaster//Event Calendar 2.0//EN
METHOD:PUBLISH
X-PUBLISHED-TTL:P3D
REFRESH-INTERVAL:P3D
CALSCALE:GREGORIAN
BEGIN:VEVENT
DTSTART:20170513T003000Z
DTEND:20170513T033000Z
X-MICROSOFT-CDO-ALLDAYEVENT:FALSE
SUMMARY:Grays Harbor Youth Works Battle of the Jazz Bands
DESCRIPTION:Grays Harbor Youth Woks Fundraiser Presents: Battle of the Jazz Bands\n\nAberdeen - Elma - Hoquiam - Montesano\n\nModerator: Pat Anderson\, Grays Harbor Radio\n\n\n\nFood and beverages provided
X-ALT-DESC;FMTTYPE=text/html:<u>Grays Harbor Youth Woks Fundraiser Presents: Battle of the Jazz Bands</u><br />\n<em><strong>Aberdeen - Elma - Hoquiam - Montesano</strong></em><br />\nModerator: Pat Anderson\, Grays Harbor Radio<br />\n<br />\nFood and beverages provided
LOCATION:Aberdeen Elks Lodge 593 1712 South Boone Street Aberdeen\, WA
UID:e.26.7694
SEQUENCE:3
DTSTAMP:20260426T033220Z
URL:https://chamber.graysharbor.org/events/details/grays-harbor-youth-works-battle-of-the-jazz-bands-7694
END:VEVENT

END:VCALENDAR
