BEGIN:VCALENDAR
VERSION:2.0
PRODID:-//ChamberMaster//Event Calendar 2.0//EN
METHOD:PUBLISH
X-PUBLISHED-TTL:P3D
REFRESH-INTERVAL:P3D
CALSCALE:GREGORIAN
BEGIN:VEVENT
DTSTART:20190129T230000Z
DTEND:20190130T000000Z
X-MICROSOFT-CDO-ALLDAYEVENT:FALSE
SUMMARY:Great NorthWest Financial Center Ribbon Cutting
DESCRIPTION:The Greater Grays Harbor Ambassador Team is thrilled to celebrate a new office location called the Great NorthWest Financial Center and will be celebrating with a ribbon cutting! Please join us at 331 W Wishkah St. in Aberdeen at 3pm on January 29th where you can explore this local business in Grays Harbor. \n\nLearn more about this business by visiting their website here: www.greatnwfcu.com
X-ALT-DESC;FMTTYPE=text/html:<span style="caret-color: rgb(29\, 33\, 41)\; color: rgb(29\, 33\, 41)\; font-family: system-ui\, -apple-system\, BlinkMacSystemFont\, &quot\;.SFNSText-Regular&quot\;\, sans-serif\; font-size: 14px\; white-space: pre-wrap\; background-color: rgb(255\, 255\, 255)\;">The Greater Grays Harbor Ambassador Team is thrilled to celebrate a new office location called the Great NorthWest Financial Center and will be celebrating with a ribbon cutting! Please join us at 331 W Wishkah St. in Aberdeen at 3pm on January 29th where you can explore this local business in Grays Harbor. </span><br style="caret-color: rgb(29\, 33\, 41)\; color: rgb(29\, 33\, 41)\; font-family: system-ui\, -apple-system\, BlinkMacSystemFont\, &quot\;.SFNSText-Regular&quot\;\, sans-serif\; font-size: 14px\; white-space: pre-wrap\;" />\n<span style="caret-color: rgb(29\, 33\, 41)\; color: rgb(29\, 33\, 41)\; font-family: system-ui\, -apple-system\, BlinkMacSystemFont\, &quot\;.SFNSText-Regular&quot\;\, sans-serif\; font-size: 14px\; white-space: pre-wrap\; background-color: rgb(255\, 255\, 255)\;">Learn more about this business by visiting their website here: </span><a data-lynx-mode="hover" href="https://l.facebook.com/l.php?u=http%3A%2F%2Fwww.greatnwfcu.com%2F%3Ffbclid%3DIwAR2BN3nQ4G1gmKTAgSoat9C0EAml0x7YD9mOjIvGxiTcUZ_6-nJj9gDLPq4&amp\;h=AT0sw3xM1_4RfrW1FZVPR38od9lfuHwT77WxDOEIeZKi4-ioSG2ibYhYmPFCrMKXgDMktmUK6fykNvmPu8oG9gVBByfLEXn8iIi1plvWI5uLsUzvyjbQ0H9OrZzTR6nLw6DmFwr3Qg" rel="nofollow noopener" style="color: rgb(54\, 88\, 153)\; cursor: pointer\; text-decoration: none\; font-family: system-ui\, -apple-system\, BlinkMacSystemFont\, &quot\;.SFNSText-Regular&quot\;\, sans-serif\; font-size: 14px\; white-space: pre-wrap\;" target="_blank">www.greatnwfcu.com</a>
LOCATION:Great NorthWest Federal Credit Union 3o1 W Wishkah Aberdeen\, WA
UID:e.26.11657
SEQUENCE:3
DTSTAMP:20260424T194556Z
URL:https://chamber.graysharbor.org/events/details/great-northwest-financial-center-ribbon-cutting-11657
END:VEVENT

END:VCALENDAR
