BEGIN:VCALENDAR
VERSION:2.0
PRODID:-//ChamberMaster//Event Calendar 2.0//EN
METHOD:PUBLISH
X-PUBLISHED-TTL:P3D
REFRESH-INTERVAL:P3D
CALSCALE:GREGORIAN
BEGIN:VEVENT
DTSTART:20171125T010000Z
DTEND:20171125T023000Z
X-MICROSOFT-CDO-ALLDAYEVENT:FALSE
SUMMARY:Great Tree Lighting
DESCRIPTION:ANNUAL TREE LIGHTING | MERIWEATHER SQUARE | 5-6:30PM | \n \n\nJoin us for this annual event! Bundle up and be ready to sing some Holiday songs\, meet Santa\, see elves on bikes\, and of course LIGHT THE GREAT TREE!\n\n \n\n5-6pm Sit on Santa's lap and take photos or tell him your wish list\n\n6pm Tree lighting and Caroling \n\n\n\nDon't forget to bring a platter of your favorite cookies for the cookie social!\n\n \n\nWarm up at the hot cocoa bar\, snack on cookies\, and mingle with your neighbors\, it is the Seabrook tradition.
X-ALT-DESC;FMTTYPE=text/html:<span style="color: rgb(57\, 79\, 90)\; font-family: Ubuntu\, arial\, sans-serif\; font-size: 14px\; background-color: rgb(246\, 247\, 247)\;">ANNUAL TREE LIGHTING | MERIWEATHER SQUARE | 5-6:30PM |&nbsp\;</span>\n<div style="margin: 0px\; outline: none 0px\; padding: 0px\; color: rgb(57\, 79\, 90)\; font-family: Ubuntu\, arial\, sans-serif\; font-size: 14px\; background-color: rgb(246\, 247\, 247)\;">&nbsp\;</div>\n\n<div style="margin: 0px\; outline: none 0px\; padding: 0px\; color: rgb(57\, 79\, 90)\; font-family: Ubuntu\, arial\, sans-serif\; font-size: 14px\; background-color: rgb(246\, 247\, 247)\;">Join us for this annual event! Bundle up and be ready to sing some Holiday songs\, meet Santa\, see elves on bikes\, and of course LIGHT THE GREAT TREE!</div>\n\n<div style="margin: 0px\; outline: none 0px\; padding: 0px\; color: rgb(57\, 79\, 90)\; font-family: Ubuntu\, arial\, sans-serif\; font-size: 14px\; background-color: rgb(246\, 247\, 247)\;">&nbsp\;</div>\n\n<div style="margin: 0px\; outline: none 0px\; padding: 0px\; color: rgb(57\, 79\, 90)\; font-family: Ubuntu\, arial\, sans-serif\; font-size: 14px\; background-color: rgb(246\, 247\, 247)\;">5-6pm Sit on Santa&#39\;s lap and take photos or tell him your wish list</div>\n\n<div style="margin: 0px\; outline: none 0px\; padding: 0px\; color: rgb(57\, 79\, 90)\; font-family: Ubuntu\, arial\, sans-serif\; font-size: 14px\; background-color: rgb(246\, 247\, 247)\;">6pm Tree lighting and Caroling&nbsp\;<br style="margin: 0px\; outline: none 0px\; padding: 0px\;" />\n<br style="margin: 0px\; outline: none 0px\; padding: 0px\;" />\nDon&#39\;t forget to bring a platter of your favorite cookies for the cookie social!</div>\n\n<div style="margin: 0px\; outline: none 0px\; padding: 0px\; color: rgb(57\, 79\, 90)\; font-family: Ubuntu\, arial\, sans-serif\; font-size: 14px\; background-color: rgb(246\, 247\, 247)\;">&nbsp\;</div>\n\n<div style="margin: 0px\; outline: none 0px\; padding: 0px\; color: rgb(57\, 79\, 90)\; font-family: Ubuntu\, arial\, sans-serif\; font-size: 14px\; background-color: rgb(246\, 247\, 247)\;">Warm up at the hot cocoa bar\, snack on cookies\, and mingle with your neighbors\, it is the Seabrook tradition.</div>\n
LOCATION:Seabrook Pacific Beach\, WA
UID:e.26.8342
SEQUENCE:3
DTSTAMP:20260425T180942Z
URL:https://chamber.graysharbor.org/events/details/great-tree-lighting-8342
END:VEVENT

END:VCALENDAR
