BEGIN:VCALENDAR
VERSION:2.0
PRODID:-//ChamberMaster//Event Calendar 2.0//EN
METHOD:PUBLISH
X-PUBLISHED-TTL:P3D
REFRESH-INTERVAL:P3D
CALSCALE:GREGORIAN
BEGIN:VEVENT
DTSTART:20210106T153000Z
DTEND:20210106T163000Z
X-MICROSOFT-CDO-ALLDAYEVENT:FALSE
SUMMARY:Greater Grays Harbor\, Inc. Legislative Affairs Meeting
DESCRIPTION:Greater Grays Harbor\, Inc. Legislative Affairs Committee Weekly Roundtables\n\n\n\nJoin us for a weekly Zoom call to discuss legislative issues related to the 2021 Washington State Legislative Session and relevant topics from the 117th U.S. Congress.\n\n\n\nStay tuned to social media for updates on topics and speakers.\n\n\n\nRegister via this event link to receive the access credentials.  This series is an exclusive benefit to members of Greater Grays Harbor\, Inc.\n\n\n\nTo ensure the security and integrity of the event the access link will be sent out 24 hours in advance of the event.
X-ALT-DESC;FMTTYPE=text/html:<br />\n<br />\n<span style="font-size:16px\;"><strong>Greater Grays Harbor\, Inc. Legislative Affairs Committee Weekly Roundtables</strong></span><br />\n<br />\n<span style="font-size:14px\;">Join us for a weekly Zoom call to discuss legislative issues related to the 2021 Washington State Legislative Session and relevant topics from the 117th U.S. Congress.<br />\n<br />\n<em>Stay tuned to social media for updates on topics and speakers.</em><br />\n<br />\n<span background-color:="" font-size:="" style="color: rgb(51\, 51\, 51)\; font-family: sans-serif\, Arial\, Verdana\, " trebuchet="">Register via this event link to receive the access credentials.&nbsp\; This series is an exclusive benefit to members of Greater Grays Harbor\, Inc.</span></span><br />\n<br font-size:="" style="color: rgb(51\, 51\, 51)\; font-family: sans-serif\, Arial\, Verdana\, " trebuchet="" />\n<span style="font-size:14px\;"><em style="font-family: sans-serif\, Arial\, Verdana\, &quot\;Trebuchet MS&quot\;\; font-size: 13px\; background-color: rgb(255\, 255\, 255)\; color: rgb(255\, 0\, 0)\;"><span background-color:="" font-size:="" trebuchet="">To ensure the security and integrity of the event the access link will be sent out 24 hours in advance of the event.</span></em></span>
LOCATION:Register via this website to receive the Zoom access link. To ensure the security and integrity of the event the access link will be sent out 24 hours in advance of the event.
UID:e.26.12548
SEQUENCE:3
DTSTAMP:20260424T025827Z
URL:https://chamber.graysharbor.org/events/details/greater-grays-harbor-inc-legislative-affairs-meeting-12548
END:VEVENT

END:VCALENDAR
