BEGIN:VCALENDAR
VERSION:2.0
PRODID:-//ChamberMaster//Event Calendar 2.0//EN
METHOD:PUBLISH
X-PUBLISHED-TTL:P3D
REFRESH-INTERVAL:P3D
CALSCALE:GREGORIAN
BEGIN:VEVENT
DTSTART:20210113T153000Z
DTEND:20210113T163000Z
X-MICROSOFT-CDO-ALLDAYEVENT:FALSE
SUMMARY:Greater Grays Harbor\, Inc. Legislative Affairs Meeting
DESCRIPTION:Weekly GGHI Legislative Affairs Committee Roundtable\n\n\n\nJoin us for a weekly Zoom call to discuss legislative issues related to the 2021 Washington State Legislative Session and relevant topics from the 117th U.S. Congress.\n\n\n\nWeek of 1/20/21 call will include an Senior VP for Washington Retail Association Mark Johnson.\n\n \n\nRegister here to receive the Zoom access link.\n\n\n\nTo ensure the security and integrity of the event the access link will be sent out the day before the event.
X-ALT-DESC;FMTTYPE=text/html:<br />\n<strong>Weekly GGHI Legislative Affairs Committee Roundtable</strong><br />\n<br />\n<em>Join us for a weekly Zoom call to discuss legislative issues related to the 2021 Washington State Legislative Session and relevant topics from the 117th U.S. Congress.</em><br />\n<br />\nWeek of 1/20/21 call will include an Senior VP for <a href="https://washingtonretail.org/">Washington Retail Association</a>&nbsp\;Mark Johnson.<br />\n&nbsp\;<br />\n<span background-color:="" font-size:="" style="color: rgb(51\, 51\, 51)\; font-family: sans-serif\, Arial\, Verdana\, " trebuchet="">Register here to receive the Zoom access link.</span><br font-size:="" style="color: rgb(51\, 51\, 51)\; font-family: sans-serif\, Arial\, Verdana\, " trebuchet="" />\n<br />\n<span style="font-size:14px\;"><em background-color:="" color:="" font-size:="" style="font-family: sans-serif\, Arial\, Verdana\, " trebuchet=""><span background-color:="" font-size:="" trebuchet="">To ensure the security and integrity of the event the access link will be sent out the day before the event.</span></em></span>
LOCATION:Register via this website to receive the Zoom access link. To ensure the security and integrity of the event the access link will be sent out the day before the event.
UID:e.26.12549
SEQUENCE:3
DTSTAMP:20260424T000658Z
URL:https://chamber.graysharbor.org/events/details/greater-grays-harbor-inc-legislative-committee-01-13-2021-12549
END:VEVENT

END:VCALENDAR
