BEGIN:VCALENDAR
VERSION:2.0
PRODID:-//ChamberMaster//Event Calendar 2.0//EN
METHOD:PUBLISH
X-PUBLISHED-TTL:P3D
REFRESH-INTERVAL:P3D
CALSCALE:GREGORIAN
BEGIN:VEVENT
DTSTART:20210210T153000Z
DTEND:20210210T163000Z
X-MICROSOFT-CDO-ALLDAYEVENT:FALSE
SUMMARY:Greater Grays Harbor\, Inc. Legislative Affairs Meeting
DESCRIPTION:Weekly GGHI Legislative Committee Roundtable\n\n\n\nJoin us for a weekly Zoom call to discuss legislative issues related to the 2021 Washington State Legislative Session and relevant topics from the 117th U.S. Congress.\n\n\n\nThis week's guest will be John Lane\, Director of Local Government Affairs\n\n\n\nRegister here to receive the Zoom access link.\n\nLink will be sent out 24 hours in advance of the meeting and requires attendee verification.
X-ALT-DESC;FMTTYPE=text/html:Weekly GGHI Legislative Committee Roundtable<br />\n<br />\n<em>Join us for a weekly Zoom call to discuss legislative issues related to the 2021 Washington State Legislative Session and relevant topics from the 117th U.S. Congress.<br />\n<br />\nThis week&#39\;s guest will be John Lane\, Director of Local Government Affairs</em><br />\n<br />\n<span style="color: rgb(51\, 51\, 51)\; font-family: sans-serif\, Arial\, Verdana\, &quot\;Trebuchet MS&quot\;\; font-size: 13px\; background-color: rgb(255\, 255\, 255)\;">Register here to receive the Zoom access link.</span><br style="color: rgb(51\, 51\, 51)\; font-family: sans-serif\, Arial\, Verdana\, &quot\;Trebuchet MS&quot\;\; font-size: 13px\;" />\n<span style="color: rgb(51\, 51\, 51)\; font-family: sans-serif\, Arial\, Verdana\, &quot\;Trebuchet MS&quot\;\; font-size: 13px\; background-color: rgb(255\, 255\, 255)\;">Link will be sent out 24 hours in advance of the meeting and requires attendee verification.</span>
LOCATION:Register here to receive the Zoom access link. Link will be sent out 24 hours in advance of the meeting and requires attendee verification. *Attendee verification requires that the attendee register their email/profile with Zoom. This is a one
UID:e.26.12553
SEQUENCE:3
DTSTAMP:20260424T025954Z
URL:https://chamber.graysharbor.org/events/details/greater-grays-harbor-inc-legislative-committee-02-10-2021-12553
END:VEVENT

END:VCALENDAR
