BEGIN:VCALENDAR
VERSION:2.0
PRODID:-//ChamberMaster//Event Calendar 2.0//EN
METHOD:PUBLISH
X-PUBLISHED-TTL:P3D
REFRESH-INTERVAL:P3D
CALSCALE:GREGORIAN
BEGIN:VEVENT
DTSTART:20200321T210000Z
DTEND:20200322T000000Z
X-MICROSOFT-CDO-ALLDAYEVENT:FALSE
SUMMARY:Gulls FC Open Tryouts
DESCRIPTION:Tryouts for Grays Harbor's Mens soccer team\, Gulls FC!
X-ALT-DESC;FMTTYPE=text/html:<span style="caret-color: rgb(29\, 33\, 41)\; color: rgb(29\, 33\, 41)\; font-family: system-ui\, -apple-system\, BlinkMacSystemFont\, &quot\;.SFNSText-Regular&quot\;\, sans-serif\; font-size: 14px\; white-space: pre-wrap\;">Tryouts for Grays Harbor&#39\;s Mens soccer team\, Gulls FC!</span>
LOCATION:pin Stewart Field in Aberdeen\, WA 1516 N B St\, Aberdeen\, Washington 98520
UID:e.26.12441
SEQUENCE:3
DTSTAMP:20260424T060012Z
URL:https://chamber.graysharbor.org/events/details/gulls-fc-open-tryouts-12441
END:VEVENT

END:VCALENDAR
