BEGIN:VCALENDAR
VERSION:2.0
PRODID:-//ChamberMaster//Event Calendar 2.0//EN
METHOD:PUBLISH
X-PUBLISHED-TTL:P3D
REFRESH-INTERVAL:P3D
CALSCALE:GREGORIAN
BEGIN:VEVENT
DTSTART:20190505T220000Z
DTEND:20190506T010000Z
X-MICROSOFT-CDO-ALLDAYEVENT:FALSE
SUMMARY:Gulls vs BeSea FC
DESCRIPTION:The Grays Harbor Gulls host new WWPL club BeSea FC in WWPL play at Stewart Field in Aberdeen.
X-ALT-DESC;FMTTYPE=text/html:<span style="caret-color: rgb(29\, 33\, 41)\; color: rgb(29\, 33\, 41)\; font-family: system-ui\, -apple-system\, BlinkMacSystemFont\, &quot\;.SFNSText-Regular&quot\;\, sans-serif\; font-size: 14px\; white-space: pre-wrap\;">The Grays Harbor Gulls host new WWPL club BeSea FC in WWPL play at Stewart Field in Aberdeen.</span>
LOCATION:pin Stewart Field in Aberdeen\, WA 1516 N B St\, Aberdeen\, Washington 43812
UID:e.26.11929
SEQUENCE:3
DTSTAMP:20260424T132627Z
URL:https://chamber.graysharbor.org/events/details/gulls-vs-besea-fc-11929
END:VEVENT

END:VCALENDAR
