BEGIN:VCALENDAR
VERSION:2.0
PRODID:-//ChamberMaster//Event Calendar 2.0//EN
METHOD:PUBLISH
X-PUBLISHED-TTL:P3D
REFRESH-INTERVAL:P3D
CALSCALE:GREGORIAN
BEGIN:VEVENT
DTSTART:20190622T220000Z
DTEND:20190623T010000Z
X-MICROSOFT-CDO-ALLDAYEVENT:FALSE
SUMMARY:Gulls vs Kirkland FC
DESCRIPTION:The Grays Harbor Gulls host defending WWPL champion Kirkland FC in WWPL play at Stewart Field in Aberdeen. Show your support for Grays Harbor's own men's soccer team!
X-ALT-DESC;FMTTYPE=text/html:<span style="caret-color: rgb(29\, 33\, 41)\; color: rgb(29\, 33\, 41)\; font-family: arial\; font-size: medium\; white-space: pre-wrap\;">The Grays Harbor Gulls host defending WWPL champion Kirkland FC in WWPL play at Stewart Field in Aberdeen. Show your support for Grays Harbor&#39\;s own men&#39\;s soccer team!</span>
LOCATION:pin Stewart Field in Aberdeen\, WA 1516 N B St\, Aberdeen\, Washington 43812
UID:e.26.11930
SEQUENCE:3
DTSTAMP:20260424T120205Z
URL:https://chamber.graysharbor.org/events/details/gulls-vs-kirkland-fc-11930
END:VEVENT

END:VCALENDAR
