BEGIN:VCALENDAR
VERSION:2.0
PRODID:-//ChamberMaster//Event Calendar 2.0//EN
METHOD:PUBLISH
X-PUBLISHED-TTL:P3D
REFRESH-INTERVAL:P3D
CALSCALE:GREGORIAN
BEGIN:VEVENT
DTSTART:20170805T190000Z
DTEND:20170806T010000Z
X-MICROSOFT-CDO-ALLDAYEVENT:FALSE
SUMMARY:Habitastic Kids Carnival
DESCRIPTION:17 Fun Games\, Prizes\, Bouncy House\, Cotton Candy\, Elephant Ears\, Vendors and More. For more information call 360-533-8090
X-ALT-DESC;FMTTYPE=text/html:17 Fun Games\, Prizes\, Bouncy House\, Cotton Candy\, Elephant Ears\, Vendors and More. For more information call 360-533-8090
LOCATION:South Shore Mall (Shoppes at Riverside)
UID:e.26.8060
SEQUENCE:3
DTSTAMP:20260425T230310Z
URL:https://chamber.graysharbor.org/events/details/habitastic-kids-carnival-8060
END:VEVENT

END:VCALENDAR
