BEGIN:VCALENDAR
VERSION:2.0
PRODID:-//ChamberMaster//Event Calendar 2.0//EN
METHOD:PUBLISH
X-PUBLISHED-TTL:P3D
REFRESH-INTERVAL:P3D
CALSCALE:GREGORIAN
BEGIN:VEVENT
DTSTART:20190622T190000Z
DTEND:20190623T000000Z
X-MICROSOFT-CDO-ALLDAYEVENT:FALSE
SUMMARY:Habitastic Kidz Carnival
DESCRIPTION:Habitat for Humanity of Grays Harbor Presents the 3rd Annual Habitastic Kidz Carnival! Join us for a day of summer fun with games\, bounce houses\, vendors\, and more! Saturday\, June 22nd. 12-5 at the Shoppes at Riverside Mall! Tickets for games 50 cents each. Bounce house bracelets $5 each for unlimited bouncing!
X-ALT-DESC;FMTTYPE=text/html:Habitat for Humanity of Grays Harbor Presents the 3rd Annual Habitastic Kidz Carnival! Join us for a day of summer fun with games\, bounce houses\, vendors\, and more! Saturday\, June 22nd. 12-5 at the Shoppes at Riverside Mall! Tickets for games 50 cents each. Bounce house bracelets $5 each for unlimited bouncing!
LOCATION:Shoppes at Riverside 1017 S Boone St\, Aberdeen\, Washington 98520
UID:e.26.12052
SEQUENCE:3
DTSTAMP:20260424T132831Z
URL:https://chamber.graysharbor.org/events/details/habitastic-kidz-carnival-06-22-2019-12052
END:VEVENT

END:VCALENDAR
