BEGIN:VCALENDAR
VERSION:2.0
PRODID:-//ChamberMaster//Event Calendar 2.0//EN
METHOD:PUBLISH
X-PUBLISHED-TTL:P3D
REFRESH-INTERVAL:P3D
CALSCALE:GREGORIAN
BEGIN:VEVENT
DTSTART:20170513T200000Z
DTEND:20170513T220000Z
X-MICROSOFT-CDO-ALLDAYEVENT:FALSE
SUMMARY:Habitat for Humani-Tea
DESCRIPTION:Habitat for Humani-Tea | Seabrook Town Hall | Saturday May 13 | 1PM|\n\n\n\nWe will host the 3rd annual ladies Habitat for Humani-Tea in the town hall to benefit our local Habitat for Humanity non-profit organization. Each year\, Seabrook Community Foundation grants money to this organization to do the good work they do in our community. The ladies tea is a celebration of that work and also a way to increase fundraising beyond what the SCF grant money can accomplish.\n\n\n\nYou will enjoy tea\, great food\, great company\, live music\, a mimosa bar\, silent auction\, and fabulous guest speakers! The yearly hat decorating competition is also something to look forward to! This event is a great way to spend time with those special ladies in your life\, especially since it is the day before Mother's Day!\n\n\n\nStay tuned for details on ticket pricing and availability.
X-ALT-DESC;FMTTYPE=text/html:<strong>Habitat for Humani-Tea&nbsp\;| Seabrook Town Hall | Saturday May 13 | 1PM|</strong><br />\n<br />\nWe will host the 3rd annual ladies Habitat for Humani-Tea in the town hall to benefit our local Habitat for Humanity non-profit organization. Each year\, Seabrook Community Foundation grants money to this organization to do the good work they do in our community. The ladies tea is a celebration of that work and also a way to increase fundraising beyond what the SCF grant money can accomplish.<br />\n<br />\nYou will enjoy tea\, great food\, great company\, live music\, a mimosa bar\, silent auction\, and fabulous guest speakers! The yearly hat decorating competition is also something to look forward to! This event is a great way to spend time with those special ladies in your life\, especially since it is the day before Mother&#39\;s Day!<br />\n<br />\nStay tuned for details on ticket pricing and availability.<br />\n&nbsp\;
LOCATION:Seabrook Town Hall
UID:e.26.6573
SEQUENCE:3
DTSTAMP:20260426T032903Z
URL:https://chamber.graysharbor.org/events/details/habitat-for-humani-tea-6573
END:VEVENT

END:VCALENDAR
