BEGIN:VCALENDAR
VERSION:2.0
PRODID:-//ChamberMaster//Event Calendar 2.0//EN
METHOD:PUBLISH
X-PUBLISHED-TTL:P3D
REFRESH-INTERVAL:P3D
CALSCALE:GREGORIAN
BEGIN:VEVENT
DTSTART:20180225T020000Z
DTEND:20180225T050000Z
X-MICROSOFT-CDO-ALLDAYEVENT:FALSE
SUMMARY:Habitat Game Night
DESCRIPTION:Habitat's Game Night\n\nFLIP-IT! DEAL OR NO DEAL\n\nFundraiser!\n\n\n\nFebruary 24th 6 pm   9 pm\n\nEvents on Emerson\n\n212 4th St\, Hoquiam WA\n\nPre-sale Tickets- $25.00\n\nAt the door- $35.00\n\n\n\nGame night includes:\n\nFood & Trivia & FUN\n\n3 CHANCES TO PLAY (3 guests randomly selected)\n\nFLIP-IT! DEAL OR NO DEAL\n\n3 Winners of up to\n\n$500 each!!\n\n\n\nLucky Card Games (Lucky card guests randomly selected)\n\nHigher/Lower* Find the Joker* Heads or Tails\n\nPlus\, a chance to win lots of other prizes!\n\n\n\n\n\n\n\n\n\nContact Information\n\nDarlene Triggs\n\ndirector@graysharborhabitat.com \n\nJillian Kilwien\n\nghhabitatjillian@gmail.com\n\nPhone 360-533-8090
X-ALT-DESC;FMTTYPE=text/html:<span style="color: rgb(75\, 79\, 86)\; font-family: Helvetica\, Arial\, sans-serif\; font-size: 14px\; background-color: rgb(255\, 255\, 255)\;">Habitat&rsquo\;s Game Night</span><br style="color: rgb(75\, 79\, 86)\; font-family: Helvetica\, Arial\, sans-serif\; font-size: 14px\; background-color: rgb(255\, 255\, 255)\;" />\n<span style="color: rgb(75\, 79\, 86)\; font-family: Helvetica\, Arial\, sans-serif\; font-size: 14px\; background-color: rgb(255\, 255\, 255)\;">FLIP-IT! DEAL OR NO DEAL</span><br style="color: rgb(75\, 79\, 86)\; font-family: Helvetica\, Arial\, sans-serif\; font-size: 14px\; background-color: rgb(255\, 255\, 255)\;" />\n<span style="color: rgb(75\, 79\, 86)\; font-family: Helvetica\, Arial\, sans-serif\; font-size: 14px\; background-color: rgb(255\, 255\, 255)\;">Fundraiser!</span><br style="color: rgb(75\, 79\, 86)\; font-family: Helvetica\, Arial\, sans-serif\; font-size: 14px\; background-color: rgb(255\, 255\, 255)\;" />\n<br style="color: rgb(75\, 79\, 86)\; font-family: Helvetica\, Arial\, sans-serif\; font-size: 14px\; background-color: rgb(255\, 255\, 255)\;" />\n<span style="color: rgb(75\, 79\, 86)\; font-family: Helvetica\, Arial\, sans-serif\; font-size: 14px\; background-color: rgb(255\, 255\, 255)\;">February 24th 6 pm &ndash\; 9 pm</span><br style="color: rgb(75\, 79\, 86)\; font-family: Helvetica\, Arial\, sans-serif\; font-size: 14px\; background-color: rgb(255\, 255\, 255)\;" />\n<span style="color: rgb(75\, 79\, 86)\; font-family: Helvetica\, Arial\, sans-serif\; font-size: 14px\; background-color: rgb(255\, 255\, 255)\;">Events on Emerson</span><br style="color: rgb(75\, 79\, 86)\; font-family: Helvetica\, Arial\, sans-serif\; font-size: 14px\; background-color: rgb(255\, 255\, 255)\;" />\n<span style="color: rgb(75\, 79\, 86)\; font-family: Helvetica\, Arial\, sans-serif\; font-size: 14px\; background-color: rgb(255\, 255\, 255)\;">212 4th St\, Hoquiam WA</span><br style="color: rgb(75\, 79\, 86)\; font-family: Helvetica\, Arial\, sans-serif\; font-size: 14px\; background-color: rgb(255\, 255\, 255)\;" />\n<span style="color: rgb(75\, 79\, 86)\; font-family: Helvetica\, Arial\, sans-serif\; font-size: 14px\; background-color: rgb(255\, 255\, 255)\;">Pre-sale Tickets- $25.00</span><br style="color: rgb(75\, 79\, 86)\; font-family: Helvetica\, Arial\, sans-serif\; font-size: 14px\; background-color: rgb(255\, 255\, 255)\;" />\n<span style="color: rgb(75\, 79\, 86)\; font-family: Helvetica\, Arial\, sans-serif\; font-size: 14px\; background-color: rgb(255\, 255\, 255)\;">At the door- $35.00</span><br style="color: rgb(75\, 79\, 86)\; font-family: Helvetica\, Arial\, sans-serif\; font-size: 14px\; background-color: rgb(255\, 255\, 255)\;" />\n<br style="color: rgb(75\, 79\, 86)\; font-family: Helvetica\, Arial\, sans-serif\; font-size: 14px\; background-color: rgb(255\, 255\, 255)\;" />\n<span style="color: rgb(75\, 79\, 86)\; font-family: Helvetica\, Arial\, sans-serif\; font-size: 14px\; background-color: rgb(255\, 255\, 255)\;">Game night includes:</span><br style="color: rgb(75\, 79\, 86)\; font-family: Helvetica\, Arial\, sans-serif\; font-size: 14px\; background-color: rgb(255\, 255\, 255)\;" />\n<span style="color: rgb(75\, 79\, 86)\; font-family: Helvetica\, Arial\, sans-serif\; font-size: 14px\; background-color: rgb(255\, 255\, 255)\;">Food &amp\; Trivia &amp\; FUN</span><br />\n<span class="text_exposed_show" style="display: inline\; font-family: Helvetica\, Arial\, sans-serif\; color: rgb(75\, 79\, 86)\; font-size: 14px\; background-color: rgb(255\, 255\, 255)\;">3 CHANCES TO PLAY (3 guests randomly selected)<br />\nFLIP-IT! DEAL OR NO DEAL<br />\n3 Winners of up to<br />\n$500 each!!<br />\n<br />\nLucky Card Games (Lucky card guests randomly selected)<br />\nHigher/Lower* Find the Joker* Heads or Tails<br />\nPlus\, a chance to win lots of other prizes!<br />\n<br />\n<br />\n<br />\n<br />\nContact Information<br />\nDarlene Triggs<br />\n<span style="font-family: inherit\;">director@graysharborhabita</span><wbr />t.com&nbsp\;<br />\nJillian Kilwien<br />\nghhabitatjillian@gmail.com<br />\nPhone 360-533-8090</span>
LOCATION:Events on Emerson 212 4th St. Hoquiam\, WA
UID:e.26.9484
SEQUENCE:3
DTSTAMP:20260425T132624Z
URL:https://chamber.graysharbor.org/events/details/habitat-game-night-9484
END:VEVENT

END:VCALENDAR
