BEGIN:VCALENDAR
VERSION:2.0
PRODID:-//ChamberMaster//Event Calendar 2.0//EN
METHOD:PUBLISH
X-PUBLISHED-TTL:P3D
REFRESH-INTERVAL:P3D
CALSCALE:GREGORIAN
BEGIN:VEVENT
DTSTART:20181027T190000Z
DTEND:20181027T210000Z
X-MICROSOFT-CDO-ALLDAYEVENT:FALSE
SUMMARY:Habitat Goes to Hogwarts
DESCRIPTION:Bring your kids in their best costumes for one free Halloween photo at Tinderbox! Raffle baskets available including Harry Potter themed basket. All proceeds go to Habitat for Humanity.
X-ALT-DESC;FMTTYPE=text/html:Bring your kids in their best costumes for one free Halloween photo at Tinderbox! Raffle baskets available including Harry Potter themed basket. All proceeds go to Habitat for Humanity.
LOCATION:Tinderbox Coffee Roasters Aberdeen
UID:e.26.11312
SEQUENCE:3
DTSTAMP:20260425T002151Z
URL:https://chamber.graysharbor.org/events/details/habitat-goes-to-hogwarts-11312
END:VEVENT

END:VCALENDAR
