BEGIN:VCALENDAR
VERSION:2.0
PRODID:-//ChamberMaster//Event Calendar 2.0//EN
METHOD:PUBLISH
X-PUBLISHED-TTL:P3D
REFRESH-INTERVAL:P3D
CALSCALE:GREGORIAN
BEGIN:VEVENT
DTSTART:20190324T010000Z
DTEND:20190324T040000Z
X-MICROSOFT-CDO-ALLDAYEVENT:FALSE
SUMMARY:Habitat's Game Night
DESCRIPTION:Flip-It! Deal or No Deal Fundraiser Event Game Night includes: Aloha Alabama BBQ\, x 2 specialty drinks\, Trivia & Fun\, 3 chances to play Flip-It Deal or No Deal game. Three guests will be randomly selected to play\, with a chance to win up to $500. Lucky Cards will be sold to have a chance to play and win many other prizes. Come join us for a night of fun and games and great food. One of the prizes for the night will be 4 Terrace Club tickets to go see the Seattle Mariners play.
X-ALT-DESC;FMTTYPE=text/html:Flip-It! Deal or No Deal Fundraiser Event Game Night includes: Aloha Alabama BBQ\, x 2 specialty drinks\, Trivia &amp\; Fun\, 3 chances to play Flip-It Deal or No Deal game. Three guests will be randomly selected to play\, with a chance to win up to $500. Lucky Cards will be sold to have a chance to play and win many other prizes. Come join us for a night of fun and games and great food. One of the prizes for the night will be 4 Terrace Club tickets to go see the Seattle Mariners play.
LOCATION:Events on Emerson 212 4th St Hoquiam\, WA 98550
UID:e.26.11774
SEQUENCE:3
DTSTAMP:20260424T163413Z
URL:https://chamber.graysharbor.org/events/details/habitat-s-game-night-11774
END:VEVENT

END:VCALENDAR
