BEGIN:VCALENDAR
VERSION:2.0
PRODID:-//ChamberMaster//Event Calendar 2.0//EN
METHOD:PUBLISH
X-PUBLISHED-TTL:P3D
REFRESH-INTERVAL:P3D
CALSCALE:GREGORIAN
BEGIN:VEVENT
DTSTART:20171029T040000Z
DTEND:20171029T090000Z
X-MICROSOFT-CDO-ALLDAYEVENT:FALSE
SUMMARY:Halloween Party! (adults only)
DESCRIPTION:Come join us on October 28th for a creeptastic Halloween party     there will be 1st 2nd and 3rd place prizes for the halloween costume contest!! $100 cash 1st place\, $50 gift certificate to 2nd place\, and $25 gift certificate for 3rd place!\n\n\n\n$1 jello shots\n\n$2 specialty shots\n\n$2 witches brew\n\n& you get your first beer of any choice for $2!!!!!! \n\n\n\nCome party with us!\n\n\n\n	Dance
X-ALT-DESC;FMTTYPE=text/html:<div class="_2qgs" style="color: rgb(75\, 79\, 86)\; padding: 12px\; position: relative\; border-top: none\; font-family: Helvetica\, Arial\, sans-serif\; font-size: 12px\;"><span class="_4n-j _3cht fsl" data-testid="event-permalink-details" style="font-size: 14px\; font-family: inherit\;">Come join us on October 28th for a creeptastic Halloween party &#127875\;&#127875\;&#127875\; there will be 1st 2nd and 3rd place prizes for the halloween costume contest!! $100 cash 1st place\, $50 gift certificate to 2nd place\, and $25 gift certificate for 3rd place!<br />\n<br />\n$1 jello shots<br />\n$2 specialty shots<br />\n$2 witches brew<br />\n&amp\; you get your first beer of any choice for $2!!!!!!&nbsp\;<br />\n<br />\nCome party with us!</span></div>\n\n<div class="_1r51" style="line-height: 24px\; margin: 4px 12px 12px\; min-height: 24px\; font-family: Helvetica\, Arial\, sans-serif\; color: rgb(29\, 33\, 41)\; font-size: 12px\;">\n<ul class="uiList uiCollapsedList uiCollapsedListHidden _509- _4ki" id="u_jsonp_15_n" style="list-style-type: none\; margin: 0px\; padding: 0px\;">\n	<li style="border-width: 0px\; display: inline-block\; vertical-align: top\;"><a href="https://www.facebook.com/events/discovery/?acontext=%7B%22ref%22%3A44%2C%22unit_ref%22%3A%22related_events%22%2C%22source%22%3A1%2C%22action_history%22%3A%22%5B%7B%5C%22surface%5C%22%3A%5C%22permalink%5C%22%2C%5C%22mechanism%5C%22%3A%5C%22RHC%5C%22%2C%5C%22extra_data%5C%22%3A%5B%5D%7D%2C%7B%5C%22surface%5C%22%3A%5C%22permalink%5C%22%2C%5C%22mechanism%5C%22%3A%5C%22surface%5C%22%2C%5C%22extra_data%5C%22%3A%5B%5D%7D%2C%7B%5C%22surface%5C%22%3A%5C%22permalink%5C%22%2C%5C%22mechanism%5C%22%3A%5C%22event_information%5C%22%2C%5C%22extra_data%5C%22%3A%7B%5C%22tag%5C%22%3A%5C%22Dance%5C%22%7D%7D%5D%22%2C%22has_source%22%3Atrue%7D&amp\;suggestion_token=%7B%22event_categories%22%3A%5B363764800677393%5D%7D" style="color: rgb(54\, 88\, 153)\; cursor: pointer\; text-decoration-line: none\; font-family: inherit\;"><span class="_47od" style="background-color: rgb(237\, 242\, 250)\; border-radius: 2px\; color: rgb(32\, 55\, 95)\; display: block\; height: 14px\; line-height: 14px\; margin: 0px 4px 4px 0px\; padding: 4px 6px\; position: relative\; font-family: inherit\;">Dance</span></a></li>\n</ul>\n</div>\n
LOCATION:Flippin' 50s Diner 203 W Main St. Elma\, WA
UID:e.26.8274
SEQUENCE:3
DTSTAMP:20260425T213427Z
URL:https://chamber.graysharbor.org/events/details/halloween-party-adults-only-8274
END:VEVENT

END:VCALENDAR
