BEGIN:VCALENDAR
VERSION:2.0
PRODID:-//ChamberMaster//Event Calendar 2.0//EN
METHOD:PUBLISH
X-PUBLISHED-TTL:P3D
REFRESH-INTERVAL:P3D
CALSCALE:GREGORIAN
BEGIN:VEVENT
DTSTART;VALUE=DATE:20190524
DTEND;VALUE=DATE:20190527
TRANSP:TRANSPARENT
X-MICROSOFT-CDO-ALLDAYEVENT:TRUE
SUMMARY:Hank Cramer
DESCRIPTION:Hank Cramer is a traveling folksinger from the Pacific Northwest. He has also been an underground miner\, a deepwater sailor\, a high-country wrangler\, and 911 emergency communicator. Hank is a fourth-generation veteran of the US Army.\n\n\n\nOn Sunday he will be joined for a "Seisun" by Harmony Ridge from Chehalis\; Dan Maher from Pullman (great pub-singer\, and host of the Inland Folk radio show for 35+ years)\; cellist Micelle Cameron from Tri-Cities\; and Hank's son\, Hank IV\, from Denver.
X-ALT-DESC;FMTTYPE=text/html:<span style="caret-color: rgb(29\, 33\, 41)\; color: rgb(29\, 33\, 41)\; font-family: system-ui\, -apple-system\, BlinkMacSystemFont\, &quot\;.SFNSText-Regular&quot\;\, sans-serif\; font-size: 14px\; white-space: pre-wrap\;">Hank Cramer is a traveling folksinger from the Pacific Northwest. He has also been an underground miner\, a deepwater sailor\, a high-country wrangler\, and 911 emergency communicator. Hank is a fourth-generation veteran of the US Army.</span><br style="caret-color: rgb(29\, 33\, 41)\; color: rgb(29\, 33\, 41)\; font-family: system-ui\, -apple-system\, BlinkMacSystemFont\, &quot\;.SFNSText-Regular&quot\;\, sans-serif\; font-size: 14px\; white-space: pre-wrap\;" />\n<br style="caret-color: rgb(29\, 33\, 41)\; color: rgb(29\, 33\, 41)\; font-family: system-ui\, -apple-system\, BlinkMacSystemFont\, &quot\;.SFNSText-Regular&quot\;\, sans-serif\; font-size: 14px\; white-space: pre-wrap\;" />\n<span style="caret-color: rgb(29\, 33\, 41)\; color: rgb(29\, 33\, 41)\; font-family: system-ui\, -apple-system\, BlinkMacSystemFont\, &quot\;.SFNSText-Regular&quot\;\, sans-serif\; font-size: 14px\; white-space: pre-wrap\;">On Sunday he will be joined for a &quot\;Seisun&quot\; by Harmony Ridge from Chehalis\; Dan Maher from Pullman (great pub-singer\, and host of the Inland Folk radio show for 35+ years)\; cellist Micelle Cameron from Tri-Cities\; and Hank&#39\;s son\, Hank IV\, from Denver. </span>
LOCATION:pin Galway Bay Irish Restaurant & Pub 880 Point Brown Ave NE\, Ocean Shores\, Washington 98569
UID:e.26.11851
SEQUENCE:3
DTSTAMP:20260424T132359Z
URL:https://chamber.graysharbor.org/events/details/hank-cramer-11851
END:VEVENT

END:VCALENDAR
