BEGIN:VCALENDAR
VERSION:2.0
PRODID:-//ChamberMaster//Event Calendar 2.0//EN
METHOD:PUBLISH
X-PUBLISHED-TTL:P3D
REFRESH-INTERVAL:P3D
CALSCALE:GREGORIAN
BEGIN:VEVENT
DTSTART:20180107T033000Z
DTEND:20180107T063000Z
X-MICROSOFT-CDO-ALLDAYEVENT:FALSE
SUMMARY:Hank Williams Revisited
DESCRIPTION:Coming direct from the Branson\, MO stage\, enjoy authentic tunes from Hank Williams. Performer Tim Hadler sings some of Hank's biggest and best hits\, "Your Cheatin' Heart\," "Hey Good Lookin'\," and "I'm So Lonesome\, I Could Cry." All Tickets $12 12 & under free with paying ticket holder
X-ALT-DESC;FMTTYPE=text/html:Coming direct from the Branson\, MO stage\, enjoy authentic tunes from Hank Williams. Performer Tim Hadler sings some of Hank&#39\;s biggest and best hits\, &quot\;Your Cheatin&#39\; Heart\,&quot\; &quot\;Hey Good Lookin&#39\;\,&quot\; and &quot\;I&#39\;m So Lonesome\, I Could Cry.&quot\; All Tickets $12 12 &amp\; under free with paying ticket holder
LOCATION:Bishop Center for Performing Arts
UID:e.26.8266
SEQUENCE:3
DTSTAMP:20260425T145449Z
URL:https://chamber.graysharbor.org/events/details/hank-williams-revisited-8266
END:VEVENT

END:VCALENDAR
