BEGIN:VCALENDAR
VERSION:2.0
PRODID:-//ChamberMaster//Event Calendar 2.0//EN
METHOD:PUBLISH
X-PUBLISHED-TTL:P3D
REFRESH-INTERVAL:P3D
CALSCALE:GREGORIAN
BEGIN:VEVENT
DTSTART:20171112T033000Z
DTEND:20171112T060000Z
X-MICROSOFT-CDO-ALLDAYEVENT:FALSE
SUMMARY:Hannah\, Standing Up / Bishop Center
DESCRIPTION:The whole world has turned completely upside-down\, and in the aftermath\, Hannah finds herself without a job\, health insurance\, separated from her husband and daughter\, and in need of therapy. When all funding for the arts is cut off\, Hannah is given the option of doing standup comedy in an empty theatre for her psychotherapy. She returns to court to get her rights back. But is she the plaintiff or the defendant? Show Dates: Friday\, November 10\, 2017 - 7:30pm Saturday\, November 11\, 2017 - 7:30pm Friday\, November 17\, 2017 - 7:30pm Saturday\, November 18\, 2017 - 7:30pm All Tickets $10
X-ALT-DESC;FMTTYPE=text/html:The whole world has turned completely upside-down\, and in the aftermath\, Hannah finds herself without a job\, health insurance\, separated from her husband and daughter\, and in need of therapy. When all funding for the arts is cut off\, Hannah is given the option of doing standup comedy in an empty theatre for her psychotherapy. She returns to court to get her rights back. But is she the plaintiff or the defendant? Show Dates: Friday\, November 10\, 2017 - 7:30pm Saturday\, November 11\, 2017 - 7:30pm Friday\, November 17\, 2017 - 7:30pm Saturday\, November 18\, 2017 - 7:30pm All Tickets $10
LOCATION:Grays Harbor College Bishop Center for Performing Arts 1620 Edward P. Smith Drive Aberdeen WA 98520
UID:e.26.8319
SEQUENCE:3
DTSTAMP:20260425T181450Z
URL:https://chamber.graysharbor.org/events/details/hannah-standing-up-bishop-center-11-11-2017-8319
END:VEVENT

END:VCALENDAR
