BEGIN:VCALENDAR
VERSION:2.0
PRODID:-//ChamberMaster//Event Calendar 2.0//EN
METHOD:PUBLISH
X-PUBLISHED-TTL:P3D
REFRESH-INTERVAL:P3D
CALSCALE:GREGORIAN
BEGIN:VEVENT
DTSTART;VALUE=DATE:20201107
DTEND;VALUE=DATE:20201112
TRANSP:TRANSPARENT
X-MICROSOFT-CDO-ALLDAYEVENT:TRUE
SUMMARY:Harbor Blooms Annual Open House
DESCRIPTION:Although the Harbor Blooms Annual Open House and celebration will be different this year\, we have shipments arriving daily and are excited to begin decorating and putting out all the new Christmas merchandise (yes the gnomes are here!)\n\nWe will be following all covid safety restrictions. Safety is our absolute highest priority. We have checked on the number of shoppers we can safely have in the building at a time and will be counting as people enter and exit. Masks will be required to be properly worn at all times (masks will be available to anyone who needs one). We will have hand sanitizer available. There will be floor markers to help determine distancing. We will be cleaning contact surfaces and there will be no contact payment options.\n\nWe will have cookies in enclosed packages that you can take with you to enjoy at your leisure! There will be a free gift with every Christmas item purchase Saturday Nov 7th through Wednesday Nov 11th rather than the first 50 as in the past. Drawings for giveaways are planned each day to show our appreciation and to spread the time out to allow for smaller amounts of shoppers at a time.
X-ALT-DESC;FMTTYPE=text/html:<div dir="auto" style="font-family: system-ui\, -apple-system\, BlinkMacSystemFont\, &quot\;.SFNSText-Regular&quot\;\, sans-serif\; caret-color: rgb(5\, 5\, 5)\; color: rgb(5\, 5\, 5)\; font-size: 15px\; white-space: pre-wrap\;">Although the Harbor Blooms Annual Open House and celebration will be different this year\, we have shipments arriving daily and are excited to begin decorating and putting out all the new Christmas merchandise (yes the gnomes are here!)<br />\n<em>We will be following all covid safety restrictions. </em>Safety is our absolute highest priority. We have checked on the number of shoppers we can safely have in the building at a time and will be counting as people enter and exit. Masks will be required to be properly worn at all times (masks will be available to anyone who needs one). We will have hand sanitizer available. There will be floor markers to help determine distancing. We will be cleaning contact surfaces and there will be no contact payment options.</div>\n\n<div dir="auto" style="font-family: system-ui\, -apple-system\, BlinkMacSystemFont\, &quot\;.SFNSText-Regular&quot\;\, sans-serif\; caret-color: rgb(5\, 5\, 5)\; color: rgb(5\, 5\, 5)\; font-size: 15px\; white-space: pre-wrap\;">We will have cookies in enclosed packages that you can take with you to enjoy at your leisure! There will be a <strong>free gift </strong>with every Christmas item purchase Saturday Nov 7th through Wednesday Nov 11th rather than the first 50 as in the past. <strong>Drawings for giveaways </strong>are planned each day to show our appreciation and to spread the time out to allow for smaller amounts of shoppers at a time.</div>\n
LOCATION:118 E Heron St Aberdeen\, WA 98520
UID:e.26.12525
SEQUENCE:3
DTSTAMP:20260424T074613Z
URL:https://chamber.graysharbor.org/events/details/harbor-blooms-annual-open-house-12525
END:VEVENT

END:VCALENDAR
